View In:
ArcGIS JavaScript
ArcGIS Online Map Viewer
ArcGIS Earth
ArcMap
View Footprint In:
ArcGIS Online Map Viewer
Service Description: The data consists of 4-band (RGBN) digital imagery at 6-inch pixel resolution covering Tampa Bay, St. Joseph/Clearwater Harbor, Sarasota Bay, Lemon Bay and Charlotte Harbor project areas. This data was acquired December 21, 2023 – April 6, 2024 with a Leica ADS100 digital sensor. The project area covers 1,147 square miles covering fourteen estuaries on the central west coast of Florida. Data will adhere to the Florida Statewide Grid 5000 by 5000 foot cells that serve as the District tiling scheme for ortho photo deliverables totaling 1,312 tiles. The goal of this project is to provide the source data for future completion of a detailed geospatial map that will assist in characterizing current seagrass distribution in the fourteen estuary project areas.
Name: ImagerySeagrass/SeagrassSuncoast_2024_NC
Description: The data consists of 4-band (RGBN) digital imagery at 6-inch pixel resolution covering Tampa Bay, St. Joseph/Clearwater Harbor, Sarasota Bay, Lemon Bay and Charlotte Harbor project areas. This data was acquired December 21, 2023 – April 6, 2024 with a Leica ADS100 digital sensor. The project area covers 1,147 square miles covering fourteen estuaries on the central west coast of Florida. Data will adhere to the Florida Statewide Grid 5000 by 5000 foot cells that serve as the District tiling scheme for ortho photo deliverables totaling 1,312 tiles. The goal of this project is to provide the source data for future completion of a detailed geospatial map that will assist in characterizing current seagrass distribution in the fourteen estuary project areas.
Single Fused Map Cache: false
Extent:
XMin: 379999.9998469949
YMin: 854999.9992509037
XMax: 669999.9998469949
YMax: 1399999.9992509037
Spatial Reference: 103023
(6443)
Initial Extent:
XMin: 379999.9998469949
YMin: 854999.9992509037
XMax: 669999.9998469949
YMax: 1399999.9992509037
Spatial Reference: 103023
(6443)
Full Extent:
XMin: 379999.9998469949
YMin: 854999.9992509037
XMax: 669999.9998469949
YMax: 1399999.9992509037
Spatial Reference: 103023
(6443)
Pixel Size X: 0.5
Pixel Size Y: 0.5
Band Count: 5
Pixel Type: U8
RasterFunction Infos: {"rasterFunctionInfos": [{
"name": "None",
"description": "",
"help": ""
}]}
Mensuration Capabilities: None
Has Histograms: true
Has Colormap: false
Has Multi Dimensions : false
Rendering Rule:
Min Scale: 0
Max Scale: 0
Copyright Text: SWFWMD, Surdex
Service Data Type: esriImageServiceDataTypeGeneric
Min Values: 0, 0, 0, 0, 255
Max Values: 255, 255, 255, 255, 255
Mean Values: 78.7146526387926, 99.43113952104004, 89.048202372251, 55.15330302395272, 255
Standard Deviation Values: 51.34358762048186, 47.447108792127985, 43.41036902261165, 69.0393226143304, 0
Object ID Field: OBJECTID
Fields:
-
OBJECTID
(
type: esriFieldTypeOID, alias: OBJECTID
)
-
Shape
(
type: esriFieldTypeGeometry, alias: Shape
)
-
Name
(
type: esriFieldTypeString, alias: Name, length: 200
)
-
MinPS
(
type: esriFieldTypeDouble, alias: MinPS
)
-
MaxPS
(
type: esriFieldTypeDouble, alias: MaxPS
)
-
LowPS
(
type: esriFieldTypeDouble, alias: LowPS
)
-
HighPS
(
type: esriFieldTypeDouble, alias: HighPS
)
-
Category
(
type: esriFieldTypeInteger, alias: Category
, Coded Values:
[0: Unknown]
, [1: Primary]
, [2: Overview]
, ...6 more...
)
-
Tag
(
type: esriFieldTypeString, alias: Tag, length: 100
)
-
GroupName
(
type: esriFieldTypeString, alias: GroupName, length: 100
)
-
ProductName
(
type: esriFieldTypeString, alias: ProductName, length: 100
)
-
CenterX
(
type: esriFieldTypeDouble, alias: CenterX
)
-
CenterY
(
type: esriFieldTypeDouble, alias: CenterY
)
-
ZOrder
(
type: esriFieldTypeInteger, alias: ZOrder
)
-
Shape_Length
(
type: esriFieldTypeDouble, alias: Shape_Length
)
-
Shape_Area
(
type: esriFieldTypeDouble, alias: Shape_Area
)
Default Mosaic Method: Northwest
Allowed Mosaic Methods: NorthWest,Center,LockRaster,ByAttribute,Nadir,Viewpoint,Seamline,None
SortField:
SortValue: null
Mosaic Operator: First
Default Compression Quality: 75
Default Resampling Method: Bilinear
Max Record Count: 1000
Max Image Height: 4100
Max Image Width: 15000
Max Download Image Count: 20
Max Mosaic Image Count: 20
Allow Raster Function: true
Allow Copy: null
Allow Analysis: null
Allow Compute TiePoints: false
Supports Statistics: true
Supports Advanced Queries: true
Use StandardizedQueries: true
Raster Type Infos:
Name: Raster Dataset
Description: Supports all ArcGIS Raster Datasets
Help:
Has Raster Attribute Table: false
Edit Fields Info: null
Ownership Based AccessControl For Rasters: null
Child Resources:
Info
Histograms
Key Properties
Legend
Raster Function Infos
Supported Operations:
Export Image
Query
Identify
Compute Histograms
Compute Statistics Histograms
Get Samples
Compute Class Statistics
Query Boundary
Compute Pixel Location
Compute Angles
Validate
Project