{
 "currentVersion": 10.91,
 "serviceDescription": "The data consists of 4-band (RGBN) digital imagery at 6-inch pixel resolution covering Tampa Bay, St. Joseph/Clearwater Harbor, Sarasota Bay, Lemon Bay and Charlotte Harbor project areas. This data was acquired December 21, 2023 \u2013 April 6, 2024 with a Leica ADS100 digital sensor. The project area covers 1,147 square miles covering fourteen estuaries on the central west coast of Florida. Data will adhere to the Florida Statewide Grid 5000 by 5000 foot cells that serve as the District tiling scheme for ortho photo deliverables totaling 1,312 tiles. The goal of this project is to provide the source data for future completion of a detailed geospatial map that will assist in characterizing current seagrass distribution in the fourteen estuary project areas.",
 "name": "ImagerySeagrass/SeagrassSuncoast_2024_NC",
 "description": "The data consists of 4-band (RGBN) digital imagery at 6-inch pixel resolution covering Tampa Bay, St. Joseph/Clearwater Harbor, Sarasota Bay, Lemon Bay and Charlotte Harbor project areas. This data was acquired December 21, 2023 \u2013 April 6, 2024 with a Leica ADS100 digital sensor. The project area covers 1,147 square miles covering fourteen estuaries on the central west coast of Florida. Data will adhere to the Florida Statewide Grid 5000 by 5000 foot cells that serve as the District tiling scheme for ortho photo deliverables totaling 1,312 tiles. The goal of this project is to provide the source data for future completion of a detailed geospatial map that will assist in characterizing current seagrass distribution in the fourteen estuary project areas.",
 "extent": {
  "xmin": 379999.9998469949,
  "ymin": 854999.9992509037,
  "xmax": 669999.9998469949,
  "ymax": 1399999.9992509037,
  "spatialReference": {
   "wkid": 103023,
   "latestWkid": 6443
  }
 },
 "initialExtent": {
  "xmin": 379999.9998469949,
  "ymin": 854999.9992509037,
  "xmax": 669999.9998469949,
  "ymax": 1399999.9992509037,
  "spatialReference": {
   "wkid": 103023,
   "latestWkid": 6443
  }
 },
 "fullExtent": {
  "xmin": 379999.9998469949,
  "ymin": 854999.9992509037,
  "xmax": 669999.9998469949,
  "ymax": 1399999.9992509037,
  "spatialReference": {
   "wkid": 103023,
   "latestWkid": 6443
  }
 },
 "pixelSizeX": 0.5,
 "pixelSizeY": 0.5,
 "bandCount": 5,
 "pixelType": "U8",
 "minPixelSize": 0,
 "maxPixelSize": 0,
 "copyrightText": "SWFWMD, Surdex",
 "serviceDataType": "esriImageServiceDataTypeGeneric",
 "minValues": [
  0,
  0,
  0,
  0,
  255
 ],
 "maxValues": [
  255,
  255,
  255,
  255,
  255
 ],
 "meanValues": [
  78.7146526387926,
  99.43113952104004,
  89.048202372251,
  55.15330302395272,
  255
 ],
 "stdvValues": [
  51.34358762048186,
  47.447108792127985,
  43.41036902261165,
  69.0393226143304,
  0
 ],
 "objectIdField": "OBJECTID",
 "fields": [
  {
   "name": "OBJECTID",
   "type": "esriFieldTypeOID",
   "alias": "OBJECTID",
   "domain": null
  },
  {
   "name": "Shape",
   "type": "esriFieldTypeGeometry",
   "alias": "Shape",
   "domain": null
  },
  {
   "name": "Name",
   "type": "esriFieldTypeString",
   "alias": "Name",
   "domain": null,
   "length": 200
  },
  {
   "name": "MinPS",
   "type": "esriFieldTypeDouble",
   "alias": "MinPS",
   "domain": null
  },
  {
   "name": "MaxPS",
   "type": "esriFieldTypeDouble",
   "alias": "MaxPS",
   "domain": null
  },
  {
   "name": "LowPS",
   "type": "esriFieldTypeDouble",
   "alias": "LowPS",
   "domain": null
  },
  {
   "name": "HighPS",
   "type": "esriFieldTypeDouble",
   "alias": "HighPS",
   "domain": null
  },
  {
   "name": "Category",
   "type": "esriFieldTypeInteger",
   "alias": "Category",
   "domain": {
    "type": "codedValue",
    "name": "MosaicCatalogItemCategoryDomain",
    "description": "Catalog item categories.",
    "codedValues": [
     {
      "name": "Unknown",
      "code": 0
     },
     {
      "name": "Primary",
      "code": 1
     },
     {
      "name": "Overview",
      "code": 2
     },
     {
      "name": "Unprocessed Overview",
      "code": 3
     },
     {
      "name": "Partial Overview",
      "code": 4
     },
     {
      "name": "Inactive",
      "code": 5
     },
     {
      "name": "Uploaded",
      "code": 253
     },
     {
      "name": "Incomplete",
      "code": 254
     },
     {
      "name": "Custom",
      "code": 255
     }
    ],
    "mergePolicy": "esriMPTDefaultValue",
    "splitPolicy": "esriSPTDefaultValue"
   }
  },
  {
   "name": "Tag",
   "type": "esriFieldTypeString",
   "alias": "Tag",
   "domain": null,
   "length": 100
  },
  {
   "name": "GroupName",
   "type": "esriFieldTypeString",
   "alias": "GroupName",
   "domain": null,
   "length": 100
  },
  {
   "name": "ProductName",
   "type": "esriFieldTypeString",
   "alias": "ProductName",
   "domain": null,
   "length": 100
  },
  {
   "name": "CenterX",
   "type": "esriFieldTypeDouble",
   "alias": "CenterX",
   "domain": null
  },
  {
   "name": "CenterY",
   "type": "esriFieldTypeDouble",
   "alias": "CenterY",
   "domain": null
  },
  {
   "name": "ZOrder",
   "type": "esriFieldTypeInteger",
   "alias": "ZOrder",
   "domain": null
  },
  {
   "name": "Shape_Length",
   "type": "esriFieldTypeDouble",
   "alias": "Shape_Length",
   "domain": null
  },
  {
   "name": "Shape_Area",
   "type": "esriFieldTypeDouble",
   "alias": "Shape_Area",
   "domain": null
  }
 ],
 "capabilities": "Image,Metadata,Catalog",
 "defaultMosaicMethod": "Northwest",
 "allowedMosaicMethods": "NorthWest,Center,LockRaster,ByAttribute,Nadir,Viewpoint,Seamline,None",
 "sortField": "",
 "sortValue": null,
 "sortAscending": true,
 "mosaicOperator": "First",
 "maxDownloadSizeLimit": 2048,
 "defaultCompressionQuality": 75,
 "defaultResamplingMethod": "Bilinear",
 "maxImageHeight": 4100,
 "maxImageWidth": 15000,
 "maxRecordCount": 1000,
 "maxDownloadImageCount": 20,
 "maxMosaicImageCount": 20,
 "allowRasterFunction": true,
 "rasterFunctionInfos": [
  {
   "name": "None",
   "description": "",
   "help": ""
  }
 ],
 "rasterTypeInfos": [
  {
   "name": "Raster Dataset",
   "description": "Supports all ArcGIS Raster Datasets",
   "help": ""
  }
 ],
 "mensurationCapabilities": "None",
 "hasHistograms": true,
 "hasColormap": false,
 "hasRasterAttributeTable": false,
 "minScale": 0,
 "maxScale": 0,
 "exportTilesAllowed": false,
 "hasMultidimensions": false,
 "supportsStatistics": true,
 "supportsAdvancedQueries": true,
 "editFieldsInfo": null,
 "ownershipBasedAccessControlForRasters": null,
 "allowComputeTiePoints": false,
 "useStandardizedQueries": true,
 "advancedQueryCapabilities": {
  "useStandardizedQueries": true,
  "supportsStatistics": true,
  "supportsOrderBy": true,
  "supportsDistinct": true,
  "supportsPagination": true
 },
 "spatialReference": {
  "wkid": 103023,
  "latestWkid": 6443
 }
}
