View In:
ArcGIS JavaScript
ArcGIS Online Map Viewer
ArcGIS Earth
ArcMap
View Footprint In:
ArcGIS Online Map Viewer
Service Description: FY 2012 Tropical Storm Debbie Aerial Imagery (B089) under Purchace Order # 12POSOW0788. Provide new high resolution 2' pixel three band stack CIR digital orthophotos of approximately 270sq. miles in Citrus, Pasco & Hernando Counties., Fl. This project is a cooperative effort with SWFWMD. New aerial digital photography will be taken with a Vexcel UltraCamX digital aerial sensor using 60% forward and 40% sidelap producing a 9inch raw pixel while covering 300 5000ft. x 5000ft. SWFWMD cells. Flights are to begin 27-28 June 2012. Photography must be taken during 30degree sun angle and be free of smoke and clouds. Final project deliverables will be in NAD83 (2007). All work will be under the supervision of a licensed Florida Professional Surveyor and Mapper. Orthophotos will meet or exceed a verified horizontal accuracy of 9.12 ft. at the 95% confidence interval (3.0 feet RMSE) as specified in the FGDC standards. No correction for building lean is required.
Name: ImageryProjects/TS_Debbie_2012_CIR
Description: FY 2012 Tropical Storm Debbie Aerial Imagery (B089) under Purchace Order # 12POSOW0788. Provide new high resolution 2' pixel three band stack CIR digital orthophotos of approximately 270sq. miles in Citrus, Pasco & Hernando Counties., Fl. This project is a cooperative effort with SWFWMD. New aerial digital photography will be taken with a Vexcel UltraCamX digital aerial sensor using 60% forward and 40% sidelap producing a 9inch raw pixel while covering 300 5000ft. x 5000ft. SWFWMD cells. Flights are to begin 27-28 June 2012. Photography must be taken during 30degree sun angle and be free of smoke and clouds. Final project deliverables will be in NAD83 (2007). All work will be under the supervision of a licensed Florida Professional Surveyor and Mapper. Orthophotos will meet or exceed a verified horizontal accuracy of 9.12 ft. at the 95% confidence interval (3.0 feet RMSE) as specified in the FGDC standards. No correction for building lean is required.
Single Fused Map Cache: false
Extent:
XMin: 404999.9997156635
YMin: 1394999.9992368256
XMax: 549999.9997156635
YMax: 1639999.9992368256
Spatial Reference: 2882
(2882)
Initial Extent:
XMin: 404999.9997156635
YMin: 1394999.9992368256
XMax: 549999.9997156635
YMax: 1639999.9992368256
Spatial Reference: 2882
(2882)
Full Extent:
XMin: 404999.9997156635
YMin: 1394999.9992368256
XMax: 549999.9997156635
YMax: 1639999.9992368256
Spatial Reference: 2882
(2882)
Pixel Size X: 2.0
Pixel Size Y: 2.0
Band Count: 4
Pixel Type: U8
RasterFunction Infos: {"rasterFunctionInfos": [{
"name": "None",
"description": "",
"help": ""
}]}
Mensuration Capabilities: None
Has Histograms: true
Has Colormap: false
Has Multi Dimensions : false
Rendering Rule:
Min Scale: 0
Max Scale: 0
Copyright Text:
Service Data Type: esriImageServiceDataTypeGeneric
Min Values: 0, 0, 0, 255
Max Values: 255, 255, 255, 255
Mean Values: 118.71978309300336, 63.13075791248494, 64.7061336671027, 255
Standard Deviation Values: 36.85023736624646, 38.11707384694616, 34.25049440382443, 0
Object ID Field: OBJECTID
Fields:
-
OBJECTID
(
type: esriFieldTypeOID, alias: OBJECTID
)
-
Shape
(
type: esriFieldTypeGeometry, alias: Shape
)
-
Name
(
type: esriFieldTypeString, alias: Name, length: 200
)
-
MinPS
(
type: esriFieldTypeDouble, alias: MinPS
)
-
MaxPS
(
type: esriFieldTypeDouble, alias: MaxPS
)
-
LowPS
(
type: esriFieldTypeDouble, alias: LowPS
)
-
HighPS
(
type: esriFieldTypeDouble, alias: HighPS
)
-
Category
(
type: esriFieldTypeInteger, alias: Category
, Coded Values:
[0: Unknown]
, [1: Primary]
, [2: Overview]
, ...6 more...
)
-
Tag
(
type: esriFieldTypeString, alias: Tag, length: 100
)
-
GroupName
(
type: esriFieldTypeString, alias: GroupName, length: 100
)
-
ProductName
(
type: esriFieldTypeString, alias: ProductName, length: 100
)
-
CenterX
(
type: esriFieldTypeDouble, alias: CenterX
)
-
CenterY
(
type: esriFieldTypeDouble, alias: CenterY
)
-
ZOrder
(
type: esriFieldTypeInteger, alias: ZOrder
)
-
Shape_Length
(
type: esriFieldTypeDouble, alias: Shape_Length
)
-
Shape_Area
(
type: esriFieldTypeDouble, alias: Shape_Area
)
Default Mosaic Method: Northwest
Allowed Mosaic Methods: NorthWest,Center,LockRaster,ByAttribute,Nadir,Viewpoint,Seamline,None
SortField:
SortValue: null
Mosaic Operator: First
Default Compression Quality: 75
Default Resampling Method: Bilinear
Max Record Count: 1000
Max Image Height: 4100
Max Image Width: 15000
Max Download Image Count: 20
Max Mosaic Image Count: 20
Allow Raster Function: true
Allow Copy: null
Allow Analysis: null
Allow Compute TiePoints: false
Supports Statistics: true
Supports Advanced Queries: true
Use StandardizedQueries: true
Raster Type Infos:
Name: Raster Dataset
Description: Supports all ArcGIS Raster Datasets
Help:
Has Raster Attribute Table: false
Edit Fields Info: null
Ownership Based AccessControl For Rasters: null
Child Resources:
Info
Histograms
Key Properties
Legend
Raster Function Infos
Supported Operations:
Export Image
Query
Identify
Compute Histograms
Compute Statistics Histograms
Get Samples
Compute Class Statistics
Query Boundary
Compute Pixel Location
Compute Angles
Validate
Project