{
 "currentVersion": 10.91,
 "serviceDescription": "FY 2012 Tropical Storm Debbie Aerial Imagery (B089) under Purchace Order # 12POSOW0788. \nProvide new high resolution 2' pixel three band stack CIR digital orthophotos of approximately 270sq. miles in Citrus, Pasco & Hernando Counties., Fl. This project is a cooperative effort with SWFWMD. New aerial digital photography will be taken with a Vexcel UltraCamX digital aerial sensor using 60% forward and 40% sidelap producing a 9inch raw pixel while covering 300 5000ft. x 5000ft. SWFWMD cells. Flights are to begin 27-28 June 2012. Photography must be taken during 30degree sun angle and be free of smoke and clouds. Final project deliverables will be in NAD83 (2007). All work will be under the supervision of a licensed Florida Professional Surveyor and Mapper. Orthophotos will meet or exceed a verified horizontal accuracy of 9.12 ft. at the 95% confidence interval (3.0 feet RMSE) as specified in the FGDC standards. No correction for building lean is required.",
 "name": "ImageryProjects/TS_Debbie_2012_CIR",
 "description": "FY 2012 Tropical Storm Debbie Aerial Imagery (B089) under Purchace Order # 12POSOW0788. \nProvide new high resolution 2' pixel three band stack CIR digital orthophotos of approximately 270sq. miles in Citrus, Pasco & Hernando Counties., Fl. This project is a cooperative effort with SWFWMD. New aerial digital photography will be taken with a Vexcel UltraCamX digital aerial sensor using 60% forward and 40% sidelap producing a 9inch raw pixel while covering 300 5000ft. x 5000ft. SWFWMD cells. Flights are to begin 27-28 June 2012. Photography must be taken during 30degree sun angle and be free of smoke and clouds. Final project deliverables will be in NAD83 (2007). All work will be under the supervision of a licensed Florida Professional Surveyor and Mapper. Orthophotos will meet or exceed a verified horizontal accuracy of 9.12 ft. at the 95% confidence interval (3.0 feet RMSE) as specified in the FGDC standards. No correction for building lean is required.",
 "extent": {
  "xmin": 404999.9997156635,
  "ymin": 1394999.9992368256,
  "xmax": 549999.9997156635,
  "ymax": 1639999.9992368256,
  "spatialReference": {
   "wkid": 2882,
   "latestWkid": 2882
  }
 },
 "initialExtent": {
  "xmin": 404999.9997156635,
  "ymin": 1394999.9992368256,
  "xmax": 549999.9997156635,
  "ymax": 1639999.9992368256,
  "spatialReference": {
   "wkid": 2882,
   "latestWkid": 2882
  }
 },
 "fullExtent": {
  "xmin": 404999.9997156635,
  "ymin": 1394999.9992368256,
  "xmax": 549999.9997156635,
  "ymax": 1639999.9992368256,
  "spatialReference": {
   "wkid": 2882,
   "latestWkid": 2882
  }
 },
 "pixelSizeX": 2,
 "pixelSizeY": 2,
 "bandCount": 4,
 "pixelType": "U8",
 "minPixelSize": 0,
 "maxPixelSize": 0,
 "copyrightText": "",
 "serviceDataType": "esriImageServiceDataTypeGeneric",
 "minValues": [
  0,
  0,
  0,
  255
 ],
 "maxValues": [
  255,
  255,
  255,
  255
 ],
 "meanValues": [
  118.71978309300336,
  63.13075791248494,
  64.7061336671027,
  255
 ],
 "stdvValues": [
  36.85023736624646,
  38.11707384694616,
  34.25049440382443,
  0
 ],
 "objectIdField": "OBJECTID",
 "fields": [
  {
   "name": "OBJECTID",
   "type": "esriFieldTypeOID",
   "alias": "OBJECTID",
   "domain": null
  },
  {
   "name": "Shape",
   "type": "esriFieldTypeGeometry",
   "alias": "Shape",
   "domain": null
  },
  {
   "name": "Name",
   "type": "esriFieldTypeString",
   "alias": "Name",
   "domain": null,
   "length": 200
  },
  {
   "name": "MinPS",
   "type": "esriFieldTypeDouble",
   "alias": "MinPS",
   "domain": null
  },
  {
   "name": "MaxPS",
   "type": "esriFieldTypeDouble",
   "alias": "MaxPS",
   "domain": null
  },
  {
   "name": "LowPS",
   "type": "esriFieldTypeDouble",
   "alias": "LowPS",
   "domain": null
  },
  {
   "name": "HighPS",
   "type": "esriFieldTypeDouble",
   "alias": "HighPS",
   "domain": null
  },
  {
   "name": "Category",
   "type": "esriFieldTypeInteger",
   "alias": "Category",
   "domain": {
    "type": "codedValue",
    "name": "MosaicCatalogItemCategoryDomain",
    "description": "Catalog item categories.",
    "codedValues": [
     {
      "name": "Unknown",
      "code": 0
     },
     {
      "name": "Primary",
      "code": 1
     },
     {
      "name": "Overview",
      "code": 2
     },
     {
      "name": "Unprocessed Overview",
      "code": 3
     },
     {
      "name": "Partial Overview",
      "code": 4
     },
     {
      "name": "Inactive",
      "code": 5
     },
     {
      "name": "Uploaded",
      "code": 253
     },
     {
      "name": "Incomplete",
      "code": 254
     },
     {
      "name": "Custom",
      "code": 255
     }
    ],
    "mergePolicy": "esriMPTDefaultValue",
    "splitPolicy": "esriSPTDefaultValue"
   }
  },
  {
   "name": "Tag",
   "type": "esriFieldTypeString",
   "alias": "Tag",
   "domain": null,
   "length": 100
  },
  {
   "name": "GroupName",
   "type": "esriFieldTypeString",
   "alias": "GroupName",
   "domain": null,
   "length": 100
  },
  {
   "name": "ProductName",
   "type": "esriFieldTypeString",
   "alias": "ProductName",
   "domain": null,
   "length": 100
  },
  {
   "name": "CenterX",
   "type": "esriFieldTypeDouble",
   "alias": "CenterX",
   "domain": null
  },
  {
   "name": "CenterY",
   "type": "esriFieldTypeDouble",
   "alias": "CenterY",
   "domain": null
  },
  {
   "name": "ZOrder",
   "type": "esriFieldTypeInteger",
   "alias": "ZOrder",
   "domain": null
  },
  {
   "name": "Shape_Length",
   "type": "esriFieldTypeDouble",
   "alias": "Shape_Length",
   "domain": null
  },
  {
   "name": "Shape_Area",
   "type": "esriFieldTypeDouble",
   "alias": "Shape_Area",
   "domain": null
  }
 ],
 "capabilities": "Catalog,Image,Metadata,Pixels",
 "defaultMosaicMethod": "Northwest",
 "allowedMosaicMethods": "NorthWest,Center,LockRaster,ByAttribute,Nadir,Viewpoint,Seamline,None",
 "sortField": "",
 "sortValue": null,
 "sortAscending": true,
 "mosaicOperator": "First",
 "maxDownloadSizeLimit": 2048,
 "defaultCompressionQuality": 75,
 "defaultResamplingMethod": "Bilinear",
 "maxImageHeight": 4100,
 "maxImageWidth": 15000,
 "maxRecordCount": 1000,
 "maxDownloadImageCount": 20,
 "maxMosaicImageCount": 20,
 "allowRasterFunction": true,
 "rasterFunctionInfos": [
  {
   "name": "None",
   "description": "",
   "help": ""
  }
 ],
 "rasterTypeInfos": [
  {
   "name": "Raster Dataset",
   "description": "Supports all ArcGIS Raster Datasets",
   "help": ""
  }
 ],
 "mensurationCapabilities": "None",
 "hasHistograms": true,
 "hasColormap": false,
 "hasRasterAttributeTable": false,
 "minScale": 0,
 "maxScale": 0,
 "exportTilesAllowed": false,
 "hasMultidimensions": false,
 "supportsStatistics": true,
 "supportsAdvancedQueries": true,
 "editFieldsInfo": null,
 "ownershipBasedAccessControlForRasters": null,
 "allowComputeTiePoints": false,
 "useStandardizedQueries": true,
 "advancedQueryCapabilities": {
  "useStandardizedQueries": true,
  "supportsStatistics": true,
  "supportsOrderBy": true,
  "supportsDistinct": true,
  "supportsPagination": true
 },
 "spatialReference": {
  "wkid": 2882,
  "latestWkid": 2882
 }
}
