View In:
ArcGIS JavaScript
ArcGIS Online Map Viewer
ArcGIS Earth
ArcMap
View Footprint In:
ArcGIS Online Map Viewer
Service Description: Composite DEM for Pinellas county
Name: DEM/PinellasDEM07
Description: Composite DEM for Pinellas county
Single Fused Map Cache: false
Extent:
XMin: 380000.0000000037
YMin: 1190000.0000000075
XMax: 470000.0000000037
YMax: 1400000.0000000075
Spatial Reference: 2882
(2882)
Initial Extent:
XMin: 380000.0000000037
YMin: 1190000.0000000075
XMax: 470000.0000000037
YMax: 1400000.0000000075
Spatial Reference: 2882
(2882)
Full Extent:
XMin: 380000.0000000037
YMin: 1190000.0000000075
XMax: 470000.0000000037
YMax: 1400000.0000000075
Spatial Reference: 2882
(2882)
Pixel Size X: 5.0
Pixel Size Y: 5.0
Band Count: 1
Pixel Type: F32
RasterFunction Infos: {"rasterFunctionInfos": [{
"name": "None",
"description": "",
"help": ""
}]}
Mensuration Capabilities: Basic
Has Histograms: true
Has Colormap: false
Has Multi Dimensions : false
Rendering Rule:
Min Scale: 0
Max Scale: 0
Copyright Text:
Service Data Type: esriImageServiceDataTypeGeneric
Min Values: -32.989028930664
Max Values: 115.69999694824
Mean Values: 15.193982076801
Standard Deviation Values: 20.358053970207
Object ID Field:
Fields:
None
Default Mosaic Method: Center
Allowed Mosaic Methods:
SortField:
SortValue: null
Mosaic Operator: First
Default Compression Quality: 75
Default Resampling Method: Bilinear
Max Record Count: null
Max Image Height: 4100
Max Image Width: 15000
Max Download Image Count: null
Max Mosaic Image Count: null
Allow Raster Function: true
Allow Copy: null
Allow Analysis: null
Allow Compute TiePoints: false
Supports Statistics: false
Supports Advanced Queries: false
Use StandardizedQueries: true
Raster Type Infos:
Name: Raster Dataset
Description: Supports all ArcGIS Raster Datasets
Help:
Has Raster Attribute Table: false
Edit Fields Info: null
Ownership Based AccessControl For Rasters: null
Child Resources:
Info
Histograms
Key Properties
Legend
Raster Function Infos
Supported Operations:
Export Image
Identify
Measure
Compute Histograms
Compute Statistics Histograms
Get Samples
Compute Class Statistics
Query Boundary
Compute Pixel Location
Compute Angles
Validate
Project