{
 "currentVersion": 10.91,
 "serviceDescription": "Composite DEM for Pinellas county",
 "name": "DEM/PinellasDEM07",
 "description": "Composite DEM for Pinellas county",
 "extent": {
  "xmin": 380000.0000000037,
  "ymin": 1190000.0000000075,
  "xmax": 470000.0000000037,
  "ymax": 1400000.0000000075,
  "spatialReference": {
   "wkid": 2882,
   "latestWkid": 2882
  }
 },
 "initialExtent": {
  "xmin": 380000.0000000037,
  "ymin": 1190000.0000000075,
  "xmax": 470000.0000000037,
  "ymax": 1400000.0000000075,
  "spatialReference": {
   "wkid": 2882,
   "latestWkid": 2882
  }
 },
 "fullExtent": {
  "xmin": 380000.0000000037,
  "ymin": 1190000.0000000075,
  "xmax": 470000.0000000037,
  "ymax": 1400000.0000000075,
  "spatialReference": {
   "wkid": 2882,
   "latestWkid": 2882
  }
 },
 "pixelSizeX": 5,
 "pixelSizeY": 5,
 "bandCount": 1,
 "pixelType": "F32",
 "minPixelSize": 0,
 "maxPixelSize": 0,
 "copyrightText": "",
 "serviceDataType": "esriImageServiceDataTypeGeneric",
 "minValues": [
  -32.989028930664
 ],
 "maxValues": [
  115.69999694824
 ],
 "meanValues": [
  15.193982076801
 ],
 "stdvValues": [
  20.358053970207
 ],
 "objectIdField": "",
 "fields": [],
 "capabilities": "Image,Metadata,Mensuration",
 "defaultMosaicMethod": "Center",
 "allowedMosaicMethods": "",
 "sortField": "",
 "sortValue": null,
 "sortAscending": true,
 "mosaicOperator": "First",
 "defaultCompressionQuality": 75,
 "defaultResamplingMethod": "Bilinear",
 "maxImageHeight": 4100,
 "maxImageWidth": 15000,
 "allowRasterFunction": true,
 "rasterFunctionInfos": [
  {
   "name": "None",
   "description": "",
   "help": ""
  }
 ],
 "rasterTypeInfos": [
  {
   "name": "Raster Dataset",
   "description": "Supports all ArcGIS Raster Datasets",
   "help": ""
  }
 ],
 "mensurationCapabilities": "Basic",
 "hasHistograms": true,
 "hasColormap": false,
 "hasRasterAttributeTable": false,
 "minScale": 0,
 "maxScale": 0,
 "exportTilesAllowed": false,
 "hasMultidimensions": false,
 "supportsStatistics": false,
 "supportsAdvancedQueries": false,
 "editFieldsInfo": null,
 "ownershipBasedAccessControlForRasters": null,
 "allowComputeTiePoints": false,
 "useStandardizedQueries": true,
 "advancedQueryCapabilities": {
  "useStandardizedQueries": true,
  "supportsStatistics": false,
  "supportsOrderBy": false,
  "supportsDistinct": false,
  "supportsPagination": false
 },
 "spatialReference": {
  "wkid": 2882,
  "latestWkid": 2882
 }
}
