View In:
ArcGIS JavaScript
ArcGIS Online Map Viewer
ArcGIS Earth
ArcMap
View Footprint In:
ArcGIS Online Map Viewer
Service Description: The data set consists of 4-band (RGBN) digital imagery at one-foot pixel resolution covering Tampa Bay, St. Joseph/Clearwater Harbor, Sarasota Bay, Lemon Bay and Charlotte Harbor project areas. This data was acquired on November 10, 2019 – February 23, 2020.
Name: ImagerySeagrass/Seagrass_2020_NC
Description: The data set consists of 4-band (RGBN) digital imagery at one-foot pixel resolution covering Tampa Bay, St. Joseph/Clearwater Harbor, Sarasota Bay, Lemon Bay and Charlotte Harbor project areas. This data was acquired on November 10, 2019 – February 23, 2020.
Single Fused Map Cache: false
Extent:
XMin: 364999.9996633306
YMin: 854999.9992509037
XMax: 694999.9996633306
YMax: 1399999.9992509037
Spatial Reference: 2882
(2882)
Initial Extent:
XMin: 364999.9996633306
YMin: 854999.9992509037
XMax: 694999.9996633306
YMax: 1399999.9992509037
Spatial Reference: 2882
(2882)
Full Extent:
XMin: 364999.9996633306
YMin: 854999.9992509037
XMax: 694999.9996633306
YMax: 1399999.9992509037
Spatial Reference: 2882
(2882)
Pixel Size X: 1.0
Pixel Size Y: 1.0
Band Count: 5
Pixel Type: U8
RasterFunction Infos: {"rasterFunctionInfos": [{
"name": "None",
"description": "A No-Op Function.",
"help": ""
}]}
Mensuration Capabilities: None
Has Histograms: true
Has Colormap: false
Has Multi Dimensions : false
Rendering Rule:
Min Scale: 0
Max Scale: 0
Copyright Text: Southwest Florida Water Management District
Service Data Type: esriImageServiceDataTypeGeneric
Min Values: 23, 33, 46, 6, 255
Max Values: 251, 251, 247, 253, 255
Mean Values: 92.70927533458755, 118.07267550175601, 110.53633649208169, 93.88163764715335, 255
Standard Deviation Values: 42.708927986827746, 34.50241288710435, 30.844231102186647, 72.3019058578237, 0
Object ID Field: OBJECTID
Fields:
-
OBJECTID
(
type: esriFieldTypeOID, alias: OBJECTID
)
-
Shape
(
type: esriFieldTypeGeometry, alias: Shape
)
-
Name
(
type: esriFieldTypeString, alias: Name, length: 200
)
-
MinPS
(
type: esriFieldTypeDouble, alias: MinPS
)
-
MaxPS
(
type: esriFieldTypeDouble, alias: MaxPS
)
-
LowPS
(
type: esriFieldTypeDouble, alias: LowPS
)
-
HighPS
(
type: esriFieldTypeDouble, alias: HighPS
)
-
Category
(
type: esriFieldTypeInteger, alias: Category
, Coded Values:
[0: Unknown]
, [1: Primary]
, [2: Overview]
, ...6 more...
)
-
Tag
(
type: esriFieldTypeString, alias: Tag, length: 100
)
-
GroupName
(
type: esriFieldTypeString, alias: GroupName, length: 100
)
-
ProductName
(
type: esriFieldTypeString, alias: ProductName, length: 100
)
-
CenterX
(
type: esriFieldTypeDouble, alias: CenterX
)
-
CenterY
(
type: esriFieldTypeDouble, alias: CenterY
)
-
ZOrder
(
type: esriFieldTypeInteger, alias: ZOrder
)
-
Shape_Length
(
type: esriFieldTypeDouble, alias: Shape_Length
)
-
Shape_Area
(
type: esriFieldTypeDouble, alias: Shape_Area
)
Default Mosaic Method: Northwest
Allowed Mosaic Methods: NorthWest,Center,LockRaster,ByAttribute,Nadir,Viewpoint,Seamline,None
SortField:
SortValue: null
Mosaic Operator: First
Default Compression Quality: 75
Default Resampling Method: Bilinear
Max Record Count: 1000
Max Image Height: 4100
Max Image Width: 15000
Max Download Image Count: 20
Max Mosaic Image Count: 20
Allow Raster Function: true
Allow Copy: null
Allow Analysis: null
Allow Compute TiePoints: false
Supports Statistics: true
Supports Advanced Queries: true
Use StandardizedQueries: true
Raster Type Infos:
Name: Raster Dataset
Description: Supports all ArcGIS Raster Datasets
Help:
Has Raster Attribute Table: false
Edit Fields Info: null
Ownership Based AccessControl For Rasters: null
Child Resources:
Info
Histograms
Key Properties
Legend
Raster Function Infos
Supported Operations:
Export Image
Query
Identify
Compute Histograms
Compute Statistics Histograms
Get Samples
Compute Class Statistics
Query Boundary
Compute Pixel Location
Compute Angles
Validate
Project