View In:
ArcGIS JavaScript
ArcGIS Online Map Viewer
ArcGIS Earth
ArcMap
View Footprint In:
ArcGIS Online Map Viewer
Service Description: This geotiff data set is for the Southwest Florida Water Management District Seagrass Imagery Acquisition project. The data set consists of 4-band (RGBN) digital imagery at one-foot pixel resolution covering the mid-shore coastal waters of the District between Levy County to the north and to Pasco County to the south. Estuaries in the geographic area of interest include the Waccasassa River, Chassahowitzka River, Homosassa River, and the Weeki Wachee River. This data was acquired on November 10, 2019 – February 23, 2020.
Name: ImagerySeagrass/SeagrassSpringsCoast_2020_NC
Description: This geotiff data set is for the Southwest Florida Water Management District Seagrass Imagery Acquisition project. The data set consists of 4-band (RGBN) digital imagery at one-foot pixel resolution covering the mid-shore coastal waters of the District between Levy County to the north and to Pasco County to the south. Estuaries in the geographic area of interest include the Waccasassa River, Chassahowitzka River, Homosassa River, and the Weeki Wachee River. This data was acquired on November 10, 2019 – February 23, 2020.
Single Fused Map Cache: false
Extent:
XMin: 334999.99995216355
YMin: 1399999.999065737
XMax: 464999.99995216355
YMax: 1759999.999065737
Spatial Reference: 2882
(2882)
Initial Extent:
XMin: 334999.99995216355
YMin: 1399999.999065737
XMax: 464999.99995216355
YMax: 1759999.999065737
Spatial Reference: 2882
(2882)
Full Extent:
XMin: 334999.99995216355
YMin: 1399999.999065737
XMax: 464999.99995216355
YMax: 1759999.999065737
Spatial Reference: 2882
(2882)
Pixel Size X: 1.0
Pixel Size Y: 1.0
Band Count: 5
Pixel Type: U8
RasterFunction Infos: {"rasterFunctionInfos": [{
"name": "None",
"description": "",
"help": ""
}]}
Mensuration Capabilities: None
Has Histograms: true
Has Colormap: false
Has Multi Dimensions : false
Rendering Rule:
Min Scale: 0
Max Scale: 0
Copyright Text: Southwest Florida Water Management District
Service Data Type: esriImageServiceDataTypeGeneric
Min Values: 30, 42, 48, 7, 255
Max Values: 243, 243, 243, 246, 255
Mean Values: 78.38422025187579, 115.56703335065552, 106.04983831256976, 37.10867048836923, 255
Standard Deviation Values: 32.415364193480826, 26.626042057998756, 20.087179145062507, 47.3134722432038, 0
Object ID Field: OBJECTID
Fields:
-
OBJECTID
(
type: esriFieldTypeOID, alias: OBJECTID
)
-
Shape
(
type: esriFieldTypeGeometry, alias: Shape
)
-
Name
(
type: esriFieldTypeString, alias: Name, length: 200
)
-
MinPS
(
type: esriFieldTypeDouble, alias: MinPS
)
-
MaxPS
(
type: esriFieldTypeDouble, alias: MaxPS
)
-
LowPS
(
type: esriFieldTypeDouble, alias: LowPS
)
-
HighPS
(
type: esriFieldTypeDouble, alias: HighPS
)
-
Category
(
type: esriFieldTypeInteger, alias: Category
, Coded Values:
[0: Unknown]
, [1: Primary]
, [2: Overview]
, ...6 more...
)
-
Tag
(
type: esriFieldTypeString, alias: Tag, length: 100
)
-
GroupName
(
type: esriFieldTypeString, alias: GroupName, length: 100
)
-
ProductName
(
type: esriFieldTypeString, alias: ProductName, length: 100
)
-
CenterX
(
type: esriFieldTypeDouble, alias: CenterX
)
-
CenterY
(
type: esriFieldTypeDouble, alias: CenterY
)
-
ZOrder
(
type: esriFieldTypeInteger, alias: ZOrder
)
-
Shape_Length
(
type: esriFieldTypeDouble, alias: Shape_Length
)
-
Shape_Area
(
type: esriFieldTypeDouble, alias: Shape_Area
)
Default Mosaic Method: Northwest
Allowed Mosaic Methods: NorthWest,Center,LockRaster,ByAttribute,Nadir,Viewpoint,Seamline,None
SortField:
SortValue: null
Mosaic Operator: First
Default Compression Quality: 75
Default Resampling Method: Bilinear
Max Record Count: 1000
Max Image Height: 4100
Max Image Width: 15000
Max Download Image Count: 20
Max Mosaic Image Count: 20
Allow Raster Function: true
Allow Copy: null
Allow Analysis: null
Allow Compute TiePoints: false
Supports Statistics: true
Supports Advanced Queries: true
Use StandardizedQueries: true
Raster Type Infos:
Name: Raster Dataset
Description: Supports all ArcGIS Raster Datasets
Help:
Has Raster Attribute Table: false
Edit Fields Info: null
Ownership Based AccessControl For Rasters: null
Child Resources:
Info
Histograms
Key Properties
Legend
Raster Function Infos
Supported Operations:
Export Image
Query
Identify
Compute Histograms
Compute Statistics Histograms
Get Samples
Compute Class Statistics
Query Boundary
Compute Pixel Location
Compute Angles
Validate
Project