View In:
ArcGIS JavaScript
ArcGIS Online Map Viewer
ArcGIS Earth
ArcMap
View Footprint In:
ArcGIS Online Map Viewer
Service Description: 2012 natural color imagery at 1 foot resolution for seagrass studies that includes the mid-shore coastal waters of the District within Citrus and Hernando counities. This service is not cached.
Name: ImagerySeagrass/SeagrassSpringsCoast_2012_NC
Description: 2012 natural color imagery at 1 foot resolution for seagrass studies that includes the mid-shore coastal waters of the District within Citrus and Hernando counities. This service is not cached.
Single Fused Map Cache: false
Extent:
XMin: 334999.99995216355
YMin: 1385000.1309951919
XMax: 465000.45512466785
YMax: 1759999.5597621575
Spatial Reference: 2882
(2882)
Initial Extent:
XMin: 334999.99995216355
YMin: 1385000.1309951919
XMax: 465000.45512466785
YMax: 1759999.5597621575
Spatial Reference: 2882
(2882)
Full Extent:
XMin: 334999.99995216355
YMin: 1385000.1309951919
XMax: 465000.45512466785
YMax: 1759999.5597621575
Spatial Reference: 2882
(2882)
Pixel Size X: 0.9997958514193537
Pixel Size Y: 0.999795851419354
Band Count: 4
Pixel Type: U8
RasterFunction Infos: {"rasterFunctionInfos": [{
"name": "None",
"description": "",
"help": ""
}]}
Mensuration Capabilities: Basic
Has Histograms: true
Has Colormap: false
Has Multi Dimensions : false
Rendering Rule:
Min Scale: 0
Max Scale: 0
Copyright Text: Southwest Florida Water Management District
Service Data Type: esriImageServiceDataTypeGeneric
Min Values: 18, 39, 83, 255
Max Values: 255, 255, 255, 255
Mean Values: 66.68685192922294, 137.22103588229868, 151.88775590487094, 255
Standard Deviation Values: 38.4086966747902, 25.56107206098716, 19.316462100497912, 0
Object ID Field: OBJECTID
Fields:
-
OBJECTID
(
type: esriFieldTypeOID, alias: OBJECTID
)
-
Shape
(
type: esriFieldTypeGeometry, alias: Shape
)
-
Name
(
type: esriFieldTypeString, alias: Name, length: 50
)
-
MinPS
(
type: esriFieldTypeDouble, alias: MinPS
)
-
MaxPS
(
type: esriFieldTypeDouble, alias: MaxPS
)
-
LowPS
(
type: esriFieldTypeDouble, alias: LowPS
)
-
HighPS
(
type: esriFieldTypeDouble, alias: HighPS
)
-
Category
(
type: esriFieldTypeInteger, alias: Category
, Coded Values:
[0: Unknown]
, [1: Primary]
, [2: Overview]
, ...6 more...
)
-
Tag
(
type: esriFieldTypeString, alias: Tag, length: 20
)
-
GroupName
(
type: esriFieldTypeString, alias: GroupName, length: 50
)
-
ProductName
(
type: esriFieldTypeString, alias: ProductName, length: 50
)
-
CenterX
(
type: esriFieldTypeDouble, alias: CenterX
)
-
CenterY
(
type: esriFieldTypeDouble, alias: CenterY
)
-
ZOrder
(
type: esriFieldTypeInteger, alias: ZOrder
)
-
Shape_Length
(
type: esriFieldTypeDouble, alias: Shape_Length
)
-
Shape_Area
(
type: esriFieldTypeDouble, alias: Shape_Area
)
Default Mosaic Method: Northwest
Allowed Mosaic Methods: NorthWest,Center,LockRaster,ByAttribute,Nadir,Viewpoint,Seamline,None
SortField:
SortValue: null
Mosaic Operator: First
Default Compression Quality: 75
Default Resampling Method: Bilinear
Max Record Count: 1000
Max Image Height: 4100
Max Image Width: 15000
Max Download Image Count: 20
Max Mosaic Image Count: 20
Allow Raster Function: true
Allow Copy: null
Allow Analysis: null
Allow Compute TiePoints: false
Supports Statistics: true
Supports Advanced Queries: true
Use StandardizedQueries: true
Raster Type Infos:
Name: Raster Dataset
Description: Supports all ArcGIS Raster Datasets
Help:
Has Raster Attribute Table: false
Edit Fields Info: null
Ownership Based AccessControl For Rasters: null
Child Resources:
Info
Histograms
Key Properties
Legend
Raster Function Infos
Supported Operations:
Export Image
Query
Identify
Measure
Compute Histograms
Compute Statistics Histograms
Get Samples
Compute Class Statistics
Query Boundary
Compute Pixel Location
Compute Angles
Validate
Project