View In:
ArcGIS JavaScript
ArcGIS Online Map Viewer
ArcGIS Earth
ArcMap
View Footprint In:
ArcGIS Online Map Viewer
Service Description: 2020 Color Infrared Imagery, 6 inch resolution, projected to State Plane feet, NAD83 HARN, Florida West.
Name: ImageryOP/swfwmd_2020_6in_CIR
Description: 2020 Color Infrared Imagery, 6 inch resolution, projected to State Plane feet, NAD83 HARN, Florida West.
Single Fused Map Cache: false
Extent:
XMin: 374998.8763190806
YMin: 865001.5221976563
XMax: 939999.3763190806
YMax: 1890002.0221976563
Spatial Reference: 2882
(2882)
Initial Extent:
XMin: 374998.8763190806
YMin: 865001.5221976563
XMax: 939999.3763190806
YMax: 1890002.0221976563
Spatial Reference: 2882
(2882)
Full Extent:
XMin: 374998.8763190806
YMin: 865001.5221976563
XMax: 939999.3763190806
YMax: 1890002.0221976563
Spatial Reference: 2882
(2882)
Pixel Size X: 0.5
Pixel Size Y: 0.5
Band Count: 3
Pixel Type: U8
RasterFunction Infos: {"rasterFunctionInfos": [{
"name": "None",
"description": "",
"help": ""
}]}
Mensuration Capabilities: Basic
Has Histograms: false
Has Colormap: false
Has Multi Dimensions : false
Rendering Rule:
Min Scale: 0
Max Scale: 0
Copyright Text: Southwest Florida Water Management District
Service Data Type: esriImageServiceDataTypeRGB
Min Values: N/A
Max Values: N/A
Mean Values: N/A
Standard Deviation Values: N/A
Object ID Field:
Fields:
None
Default Mosaic Method: Center
Allowed Mosaic Methods:
SortField:
SortValue: null
Mosaic Operator: First
Default Compression Quality: 75
Default Resampling Method: Bilinear
Max Record Count: null
Max Image Height: 4100
Max Image Width: 15000
Max Download Image Count: null
Max Mosaic Image Count: null
Allow Raster Function: true
Allow Copy: null
Allow Analysis: null
Allow Compute TiePoints: false
Supports Statistics: false
Supports Advanced Queries: false
Use StandardizedQueries: true
Raster Type Infos:
Name: Raster Dataset
Description: Supports all ArcGIS Raster Datasets
Help:
Has Raster Attribute Table: false
Edit Fields Info: null
Ownership Based AccessControl For Rasters: null
Child Resources:
Info
Key Properties
Legend
Raster Function Infos
Supported Operations:
Export Image
Identify
Measure
Compute Histograms
Compute Statistics Histograms
Get Samples
Compute Class Statistics
Query Boundary
Compute Pixel Location
Compute Angles
Validate
Project