View In:
ArcGIS JavaScript
ArcGIS Online Map Viewer
ArcGIS Earth
ArcMap
View Footprint In:
ArcGIS Online Map Viewer
Service Description: The National High Altitude Photography (NHAP) program, which was operated from 1980-1989, was coordinated by the U.S. Geological Survey as an interagency project to eliminate duplicate photography in various Government programs. The aim of the program was to cover the 48 conterminous states over a 5-year span. In the NHAP program, color-infrared aerial photographs were obtained on 9-inch film from an altitude of 40,000 feet above mean terrain elevation and are centered over USGS 7.5-minute quadrangles. The color-infrared photographs are at a scale of 1:58,000 (1 inch equals about .9 miles). The NHAP program was designed to reduce Federal costs, eliminate duplication of effort, and to obtain complete, uniform coverage of the conterminous 48 states of the USA over a 5-year cycle. In 1987 the program name was changed to the National Aerial Photography Program (NAPP) in recognition of modifications in the user requirements and flight specifications. The projected coordinate system is UTM zone 17 N, NAD 83 HARN, GRS 80, Units Meters. All of the images have a 1.5 meter pixel resolution. Most of the aerial have been orthorectified, although there are numerous images that were georeferenced.
Name: Imagery/swfwmd_1984_NHAP_CIR
Description: The National High Altitude Photography (NHAP) program, which was operated from 1980-1989, was coordinated by the U.S. Geological Survey as an interagency project to eliminate duplicate photography in various Government programs. The aim of the program was to cover the 48 conterminous states over a 5-year span. In the NHAP program, color-infrared aerial photographs were obtained on 9-inch film from an altitude of 40,000 feet above mean terrain elevation and are centered over USGS 7.5-minute quadrangles. The color-infrared photographs are at a scale of 1:58,000 (1 inch equals about .9 miles). The NHAP program was designed to reduce Federal costs, eliminate duplication of effort, and to obtain complete, uniform coverage of the conterminous 48 states of the USA over a 5-year cycle. In 1987 the program name was changed to the National Aerial Photography Program (NAPP) in recognition of modifications in the user requirements and flight specifications. The projected coordinate system is UTM zone 17 N, NAD 83 HARN, GRS 80, Units Meters. All of the images have a 1.5 meter pixel resolution. Most of the aerial have been orthorectified, although there are numerous images that were georeferenced.
Single Fused Map Cache: false
Extent:
XMin: 370495.80330424383
YMin: 853438.0405659929
XMax: 902193.9869923609
YMax: 1899152.6754842405
Spatial Reference: 2882
(2882)
Initial Extent:
XMin: 370495.80330424383
YMin: 853438.0405659929
XMax: 902193.9869923609
YMax: 1899152.6754842405
Spatial Reference: 2882
(2882)
Full Extent:
XMin: 370495.80330424383
YMin: 853438.0405659929
XMax: 902193.9869923609
YMax: 1899152.6754842405
Spatial Reference: 2882
(2882)
Pixel Size X: 4.515253436666642
Pixel Size Y: 4.515253436666642
Band Count: 3
Pixel Type: U8
RasterFunction Infos: {"rasterFunctionInfos": [{
"name": "None",
"description": "A No-Op Function.",
"help": ""
}]}
Mensuration Capabilities: Basic
Has Histograms: true
Has Colormap: false
Has Multi Dimensions : false
Rendering Rule:
Min Scale: 0
Max Scale: 0
Copyright Text: Southwest Florida Water Management District
Service Data Type: esriImageServiceDataTypeRGB
Min Values: 0, 0, 0
Max Values: 255, 255, 255
Mean Values: 116.3647771059451, 126.74500920118676, 134.61352461786907
Standard Deviation Values: 40.1601194058502, 41.103210879610835, 42.67149252662078
Object ID Field: OBJECTID
Fields:
-
OBJECTID
(
type: esriFieldTypeOID, alias: OBJECTID
)
-
Shape
(
type: esriFieldTypeGeometry, alias: Shape
)
-
Name
(
type: esriFieldTypeString, alias: Name, length: 50
)
-
MinPS
(
type: esriFieldTypeDouble, alias: MinPS
)
-
MaxPS
(
type: esriFieldTypeDouble, alias: MaxPS
)
-
LowPS
(
type: esriFieldTypeDouble, alias: LowPS
)
-
HighPS
(
type: esriFieldTypeDouble, alias: HighPS
)
-
Category
(
type: esriFieldTypeInteger, alias: Category
, Coded Values:
[0: Unknown]
, [1: Primary]
, [2: Overview]
, ...5 more...
)
-
Tag
(
type: esriFieldTypeString, alias: Tag, length: 20
)
-
GroupName
(
type: esriFieldTypeString, alias: GroupName, length: 50
)
-
ProductName
(
type: esriFieldTypeString, alias: ProductName, length: 50
)
-
CenterX
(
type: esriFieldTypeDouble, alias: CenterX
)
-
CenterY
(
type: esriFieldTypeDouble, alias: CenterY
)
-
ZOrder
(
type: esriFieldTypeInteger, alias: ZOrder
)
-
Shape_Length
(
type: esriFieldTypeDouble, alias: Shape_Length
)
-
Shape_Area
(
type: esriFieldTypeDouble, alias: Shape_Area
)
Default Mosaic Method: Northwest
Allowed Mosaic Methods: NorthWest,Center,LockRaster,ByAttribute,Nadir,Viewpoint,Seamline,None
SortField:
SortValue: null
Mosaic Operator: First
Default Compression Quality: 75
Default Resampling Method: Bilinear
Max Record Count: 1000
Max Image Height: 4100
Max Image Width: 15000
Max Download Image Count: 20
Max Mosaic Image Count: 20
Allow Raster Function: true
Allow Copy: null
Allow Analysis: null
Allow Compute TiePoints: false
Supports Statistics: true
Supports Advanced Queries: true
Use StandardizedQueries: true
Raster Type Infos:
Name: Raster Dataset
Description: Supports all ArcGIS Raster Datasets
Help:
Has Raster Attribute Table: false
Edit Fields Info: null
Ownership Based AccessControl For Rasters: null
Child Resources:
Info
Histograms
Key Properties
Legend
Raster Function Infos
Supported Operations:
Export Image
Query
Identify
Measure
Compute Histograms
Compute Statistics Histograms
Get Samples
Compute Class Statistics
Query Boundary
Compute Pixel Location
Compute Angles
Validate
Project