View In:
ArcGIS JavaScript
ArcGIS Online Map Viewer
ArcGIS Earth
ArcMap
View Footprint In:
ArcGIS Online Map Viewer
Service Description: This DEM was constructed from multiple-year LiDAR missions. The LiDAR Hydro-flattened 5' cell size DTMs were combined from 2006 - 2018 to construct this DTM. The details of any single 5000' x 5000' cell are found in the "LiDARTilesforDEMs_Jan2019.shp" located in the METADATA Directory
Name: DEM/SumterDEM18
Description: This DEM was constructed from multiple-year LiDAR missions. The LiDAR Hydro-flattened 5' cell size DTMs were combined from 2006 - 2018 to construct this DTM. The details of any single 5000' x 5000' cell are found in the "LiDARTilesforDEMs_Jan2019.shp" located in the METADATA Directory
Single Fused Map Cache: false
Extent:
XMin: 559999.9999999965
YMin: 1450000.0000000005
XMax: 674999.9999999965
YMax: 1685000.0000000005
Spatial Reference: 103023
(6443)
Initial Extent:
XMin: 559999.9999999965
YMin: 1450000.0000000005
XMax: 674999.9999999965
YMax: 1685000.0000000005
Spatial Reference: 103023
(6443)
Full Extent:
XMin: 559999.9999999965
YMin: 1450000.0000000005
XMax: 674999.9999999965
YMax: 1685000.0000000005
Spatial Reference: 103023
(6443)
Pixel Size X: 5.0
Pixel Size Y: 5.0
Band Count: 1
Pixel Type: F32
RasterFunction Infos: {"rasterFunctionInfos": [{
"name": "None",
"description": "",
"help": ""
}]}
Mensuration Capabilities: Basic
Has Histograms: true
Has Colormap: false
Has Multi Dimensions : false
Rendering Rule:
Min Scale: 0
Max Scale: 0
Copyright Text: Southwest Florida Water Management District
Mapping & GIS
2379 Broad Street
Brooksville, FL 34604
352-796-7211 x 4200
Service Data Type: esriImageServiceDataTypeGeneric
Min Values: 11.569999694824
Max Values: 165.4700012207
Mean Values: 71.558193696746
Standard Deviation Values: 19.387335360727
Object ID Field:
Fields:
None
Default Mosaic Method: Center
Allowed Mosaic Methods:
SortField:
SortValue: null
Mosaic Operator: First
Default Compression Quality: 75
Default Resampling Method: Bilinear
Max Record Count: null
Max Image Height: 4100
Max Image Width: 15000
Max Download Image Count: null
Max Mosaic Image Count: null
Allow Raster Function: true
Allow Copy: null
Allow Analysis: null
Allow Compute TiePoints: false
Supports Statistics: false
Supports Advanced Queries: false
Use StandardizedQueries: true
Raster Type Infos:
Name: Raster Dataset
Description: Supports all ArcGIS Raster Datasets
Help:
Has Raster Attribute Table: false
Edit Fields Info: null
Ownership Based AccessControl For Rasters: null
Child Resources:
Info
Histograms
Key Properties
Legend
Raster Function Infos
Supported Operations:
Export Image
Identify
Measure
Compute Histograms
Compute Statistics Histograms
Get Samples
Compute Class Statistics
Query Boundary
Compute Pixel Location
Compute Angles
Validate
Project