View In:
ArcGIS JavaScript
ArcGIS Online Map Viewer
ArcGIS Earth
ArcMap
View Footprint In:
ArcGIS Online Map Viewer
Service Description: Composite DEM for Polk county
Name: DEM/PolkDEM15
Description: Composite DEM for Polk county
Single Fused Map Cache: false
Extent:
XMin: 620000
YMin: 1200000
XMax: 940000
YMax: 1465000
Spatial Reference: 2882
(2882)
VCSWkid(105703)
LatestVCSWkid(6360)
Initial Extent:
XMin: 620000
YMin: 1200000
XMax: 940000
YMax: 1465000
Spatial Reference: 2882
(2882)
VCSWkid(105703)
LatestVCSWkid(6360)
Full Extent:
XMin: 620000
YMin: 1200000
XMax: 940000
YMax: 1465000
Spatial Reference: 2882
(2882)
VCSWkid(105703)
LatestVCSWkid(6360)
Pixel Size X: 5.0
Pixel Size Y: 5.0
Band Count: 1
Pixel Type: F32
RasterFunction Infos: {"rasterFunctionInfos": [{
"name": "None",
"description": "",
"help": ""
}]}
Mensuration Capabilities: Basic
Has Histograms: true
Has Colormap: false
Has Multi Dimensions : false
Rendering Rule:
Min Scale: 0
Max Scale: 0
Copyright Text:
Service Data Type: esriImageServiceDataTypeGeneric
Min Values: 0
Max Values: 380.75
Mean Values: 115.22905434654
Standard Deviation Values: 36.286133448941
Object ID Field:
Fields:
None
Default Mosaic Method: Center
Allowed Mosaic Methods:
SortField:
SortValue: null
Mosaic Operator: First
Default Compression Quality: 75
Default Resampling Method: Bilinear
Max Record Count: null
Max Image Height: 4100
Max Image Width: 15000
Max Download Image Count: null
Max Mosaic Image Count: null
Allow Raster Function: true
Allow Copy: null
Allow Analysis: null
Allow Compute TiePoints: false
Supports Statistics: false
Supports Advanced Queries: false
Use StandardizedQueries: true
Raster Type Infos:
Name: Raster Dataset
Description: Supports all ArcGIS Raster Datasets
Help:
Has Raster Attribute Table: false
Edit Fields Info: null
Ownership Based AccessControl For Rasters: null
Child Resources:
Info
Histograms
Key Properties
Legend
Raster Function Infos
Supported Operations:
Export Image
Identify
Measure
Compute Histograms
Compute Statistics Histograms
Get Samples
Compute Class Statistics
Query Boundary
Compute Pixel Location
Compute Angles
Validate
Project