View In:
ArcGIS JavaScript
ArcGIS Online Map Viewer
ArcGIS Earth
ArcMap
View Footprint In:
ArcGIS Online Map Viewer
Service Description: Composite DEM for Manatee county.
Name: DEM/ManateeDEM16
Description: Composite DEM for Manatee county.
Single Fused Map Cache: false
Extent:
XMin: 404999.99999999866
YMin: 1039999.9999999988
XMax: 634999.9999999986
YMax: 1204999.9999999988
Spatial Reference: PROJCS["GRS_1980_Transverse_Mercator",GEOGCS["GCS_GRS_1980",DATUM["D_GRS_1980",SPHEROID["GRS_1980",6378137.0,298.257222101]],PRIMEM["Greenwich",0.0],UNIT["Degree",0.0174532925199433]],PROJECTION["Transverse_Mercator"],PARAMETER["False_Easting",656166.6666666665],PARAMETER["False_Northing",0.0],PARAMETER["Central_Meridian",-82.0],PARAMETER["Scale_Factor",0.9999411764705882],PARAMETER["Latitude_Of_Origin",24.33333333333333],UNIT["Foot_US",0.3048006096012192]]
Initial Extent:
XMin: 404999.99999999866
YMin: 1039999.9999999988
XMax: 634999.9999999986
YMax: 1204999.9999999988
Spatial Reference: PROJCS["GRS_1980_Transverse_Mercator",GEOGCS["GCS_GRS_1980",DATUM["D_GRS_1980",SPHEROID["GRS_1980",6378137.0,298.257222101]],PRIMEM["Greenwich",0.0],UNIT["Degree",0.0174532925199433]],PROJECTION["Transverse_Mercator"],PARAMETER["False_Easting",656166.6666666665],PARAMETER["False_Northing",0.0],PARAMETER["Central_Meridian",-82.0],PARAMETER["Scale_Factor",0.9999411764705882],PARAMETER["Latitude_Of_Origin",24.33333333333333],UNIT["Foot_US",0.3048006096012192]]
Full Extent:
XMin: 404999.99999999866
YMin: 1039999.9999999988
XMax: 634999.9999999986
YMax: 1204999.9999999988
Spatial Reference: PROJCS["GRS_1980_Transverse_Mercator",GEOGCS["GCS_GRS_1980",DATUM["D_GRS_1980",SPHEROID["GRS_1980",6378137.0,298.257222101]],PRIMEM["Greenwich",0.0],UNIT["Degree",0.0174532925199433]],PROJECTION["Transverse_Mercator"],PARAMETER["False_Easting",656166.6666666665],PARAMETER["False_Northing",0.0],PARAMETER["Central_Meridian",-82.0],PARAMETER["Scale_Factor",0.9999411764705882],PARAMETER["Latitude_Of_Origin",24.33333333333333],UNIT["Foot_US",0.3048006096012192]]
Pixel Size X: 4.999999999999999
Pixel Size Y: 5.0
Band Count: 1
Pixel Type: F32
RasterFunction Infos: {"rasterFunctionInfos": [{
"name": "None",
"description": "",
"help": ""
}]}
Mensuration Capabilities: Basic
Has Histograms: true
Has Colormap: false
Has Multi Dimensions : false
Rendering Rule:
Min Scale: 0
Max Scale: 0
Copyright Text:
Service Data Type: esriImageServiceDataTypeGeneric
Min Values: -16.752559661865
Max Values: 237.98472595215
Mean Values: 49.316816366524
Standard Deviation Values: 37.325281600823
Object ID Field:
Fields:
None
Default Mosaic Method: Center
Allowed Mosaic Methods:
SortField:
SortValue: null
Mosaic Operator: First
Default Compression Quality: 75
Default Resampling Method: Bilinear
Max Record Count: null
Max Image Height: 4100
Max Image Width: 15000
Max Download Image Count: null
Max Mosaic Image Count: null
Allow Raster Function: true
Allow Copy: null
Allow Analysis: null
Allow Compute TiePoints: false
Supports Statistics: false
Supports Advanced Queries: false
Use StandardizedQueries: true
Raster Type Infos:
Name: Raster Dataset
Description: Supports all ArcGIS Raster Datasets
Help:
Has Raster Attribute Table: false
Edit Fields Info: null
Ownership Based AccessControl For Rasters: null
Child Resources:
Info
Histograms
Key Properties
Legend
Raster Function Infos
Supported Operations:
Export Image
Identify
Measure
Compute Histograms
Compute Statistics Histograms
Get Samples
Compute Class Statistics
Query Boundary
Compute Pixel Location
Compute Angles
Validate
Project