View In:
ArcGIS JavaScript
ArcGIS Online Map Viewer
ArcGIS Earth
ArcMap
View Footprint In:
ArcGIS Online Map Viewer
Service Description: Composite DEM for Highlands County.
Name: DEM/HighlandsDEM10
Description: Composite DEM for Highlands County.
Single Fused Map Cache: false
Extent:
XMin: 795000
YMin: 1005000
XMax: 890000
YMax: 1205000
Spatial Reference: PROJCS["NAD_1983_HARN_StatePlane_Florida_West_FIPS_0902_Feet",GEOGCS["GCS_North_American_1983_HARN",DATUM["D_North_American_1983_HARN",SPHEROID["GRS_1980",6378137.0,298.257222101]],PRIMEM["Greenwich",0.0],UNIT["Degree",0.0174532925199433]],PROJECTION["Transverse_Mercator"],PARAMETER["False_Easting",656166.6666666665],PARAMETER["False_Northing",0.0],PARAMETER["Central_Meridian",-82.0],PARAMETER["Scale_Factor",0.9999411764705882],PARAMETER["Latitude_Of_Origin",24.33333333333333],UNIT["Foot_US",0.3048006096012192]],VERTCS["Unknown VCS",VDATUM["Unknown"],PARAMETER["Vertical_Shift",0.0],PARAMETER["Direction",1.0],UNIT["Foot_US",0.3048006096012192]]
Initial Extent:
XMin: 795000
YMin: 1005000
XMax: 890000
YMax: 1205000
Spatial Reference: PROJCS["NAD_1983_HARN_StatePlane_Florida_West_FIPS_0902_Feet",GEOGCS["GCS_North_American_1983_HARN",DATUM["D_North_American_1983_HARN",SPHEROID["GRS_1980",6378137.0,298.257222101]],PRIMEM["Greenwich",0.0],UNIT["Degree",0.0174532925199433]],PROJECTION["Transverse_Mercator"],PARAMETER["False_Easting",656166.6666666665],PARAMETER["False_Northing",0.0],PARAMETER["Central_Meridian",-82.0],PARAMETER["Scale_Factor",0.9999411764705882],PARAMETER["Latitude_Of_Origin",24.33333333333333],UNIT["Foot_US",0.3048006096012192]],VERTCS["Unknown VCS",VDATUM["Unknown"],PARAMETER["Vertical_Shift",0.0],PARAMETER["Direction",1.0],UNIT["Foot_US",0.3048006096012192]]
Full Extent:
XMin: 795000
YMin: 1005000
XMax: 890000
YMax: 1205000
Spatial Reference: PROJCS["NAD_1983_HARN_StatePlane_Florida_West_FIPS_0902_Feet",GEOGCS["GCS_North_American_1983_HARN",DATUM["D_North_American_1983_HARN",SPHEROID["GRS_1980",6378137.0,298.257222101]],PRIMEM["Greenwich",0.0],UNIT["Degree",0.0174532925199433]],PROJECTION["Transverse_Mercator"],PARAMETER["False_Easting",656166.6666666665],PARAMETER["False_Northing",0.0],PARAMETER["Central_Meridian",-82.0],PARAMETER["Scale_Factor",0.9999411764705882],PARAMETER["Latitude_Of_Origin",24.33333333333333],UNIT["Foot_US",0.3048006096012192]],VERTCS["Unknown VCS",VDATUM["Unknown"],PARAMETER["Vertical_Shift",0.0],PARAMETER["Direction",1.0],UNIT["Foot_US",0.3048006096012192]]
Pixel Size X: 5.0
Pixel Size Y: 5.0
Band Count: 1
Pixel Type: F32
RasterFunction Infos: {"rasterFunctionInfos": [{
"name": "None",
"description": "",
"help": ""
}]}
Mensuration Capabilities: Basic
Has Histograms: true
Has Colormap: false
Has Multi Dimensions : false
Rendering Rule:
Min Scale: 0
Max Scale: 0
Copyright Text:
Service Data Type: esriImageServiceDataTypeGeneric
Min Values: 30.059740066528
Max Values: 215.24786376953
Mean Values: 101.01193646525
Standard Deviation Values: 29.992362936663
Object ID Field:
Fields:
None
Default Mosaic Method: Center
Allowed Mosaic Methods:
SortField:
SortValue: null
Mosaic Operator: First
Default Compression Quality: 75
Default Resampling Method: Bilinear
Max Record Count: null
Max Image Height: 4100
Max Image Width: 15000
Max Download Image Count: null
Max Mosaic Image Count: null
Allow Raster Function: true
Allow Copy: null
Allow Analysis: null
Allow Compute TiePoints: false
Supports Statistics: false
Supports Advanced Queries: false
Use StandardizedQueries: true
Raster Type Infos:
Name: Raster Dataset
Description: Supports all ArcGIS Raster Datasets
Help:
Has Raster Attribute Table: false
Edit Fields Info: null
Ownership Based AccessControl For Rasters: null
Child Resources:
Info
Histograms
Key Properties
Legend
Raster Function Infos
Supported Operations:
Export Image
Identify
Measure
Compute Histograms
Compute Statistics Histograms
Get Samples
Compute Class Statistics
Query Boundary
Compute Pixel Location
Compute Angles
Validate
Project