<?xml version="1.0" encoding="UTF-8" standalone="no"?>
<metadata xml:lang="en">
<Esri>
<CreaDate>20191018</CreaDate>
<CreaTime>10090000</CreaTime>
<ArcGISFormat>1.0</ArcGISFormat>
<SyncOnce>FALSE</SyncOnce>
<DataProperties>
<itemProps>
<itemName Sync="TRUE">Pasco_2018.img</itemName>
<nativeExtBox>
<westBL Sync="TRUE">400000.000000</westBL>
<eastBL Sync="TRUE">640000.000000</eastBL>
<southBL Sync="TRUE">1395000.000000</southBL>
<northBL Sync="TRUE">1510000.000000</northBL>
<exTypeCode Sync="TRUE">1</exTypeCode>
</nativeExtBox>
<imsContentType Sync="TRUE">002</imsContentType>
</itemProps>
<coordRef>
<type Sync="TRUE">Projected</type>
<geogcsn Sync="TRUE">GCS_NAD_1983_2011</geogcsn>
<csUnits Sync="TRUE">Linear Unit: Foot_US (0.304801)</csUnits>
<projcsn Sync="TRUE">NAD_1983_2011_StatePlane_Florida_West_FIPS_0902_Ft_US</projcsn>
<peXml Sync="TRUE">&lt;ProjectedCoordinateSystem xsi:type='typens:ProjectedCoordinateSystem' xmlns:xsi='http://www.w3.org/2001/XMLSchema-instance' xmlns:xs='http://www.w3.org/2001/XMLSchema' xmlns:typens='http://www.esri.com/schemas/ArcGIS/10.6'&gt;&lt;WKT&gt;PROJCS[&amp;quot;NAD_1983_2011_StatePlane_Florida_West_FIPS_0902_Ft_US&amp;quot;,GEOGCS[&amp;quot;GCS_NAD_1983_2011&amp;quot;,DATUM[&amp;quot;D_NAD_1983_2011&amp;quot;,SPHEROID[&amp;quot;GRS_1980&amp;quot;,6378137.0,298.257222101]],PRIMEM[&amp;quot;Greenwich&amp;quot;,0.0],UNIT[&amp;quot;Degree&amp;quot;,0.0174532925199433]],PROJECTION[&amp;quot;Transverse_Mercator&amp;quot;],PARAMETER[&amp;quot;False_Easting&amp;quot;,656166.6666666665],PARAMETER[&amp;quot;False_Northing&amp;quot;,0.0],PARAMETER[&amp;quot;Central_Meridian&amp;quot;,-82.0],PARAMETER[&amp;quot;Scale_Factor&amp;quot;,0.9999411764705882],PARAMETER[&amp;quot;Latitude_Of_Origin&amp;quot;,24.33333333333333],UNIT[&amp;quot;Foot_US&amp;quot;,0.3048006096012192]],VERTCS[&amp;quot;NAVD88_height_(ftUS)&amp;quot;,VDATUM[&amp;quot;North_American_Vertical_Datum_1988&amp;quot;],PARAMETER[&amp;quot;Vertical_Shift&amp;quot;,0.0],PARAMETER[&amp;quot;Direction&amp;quot;,1.0],UNIT[&amp;quot;Foot_US&amp;quot;,0.3048006096012192]]&lt;/WKT&gt;&lt;XOrigin&gt;-17791300&lt;/XOrigin&gt;&lt;YOrigin&gt;-41645400&lt;/YOrigin&gt;&lt;XYScale&gt;137249422.94257641&lt;/XYScale&gt;&lt;ZOrigin&gt;-100000&lt;/ZOrigin&gt;&lt;ZScale&gt;10000&lt;/ZScale&gt;&lt;MOrigin&gt;-100000&lt;/MOrigin&gt;&lt;MScale&gt;10000&lt;/MScale&gt;&lt;XYTolerance&gt;0.0032808333333333331&lt;/XYTolerance&gt;&lt;ZTolerance&gt;0.001&lt;/ZTolerance&gt;&lt;MTolerance&gt;0.001&lt;/MTolerance&gt;&lt;HighPrecision&gt;true&lt;/HighPrecision&gt;&lt;WKID&gt;103023&lt;/WKID&gt;&lt;LatestWKID&gt;6443&lt;/LatestWKID&gt;&lt;VCSWKID&gt;105703&lt;/VCSWKID&gt;&lt;LatestVCSWKID&gt;6360&lt;/LatestVCSWKID&gt;&lt;/ProjectedCoordinateSystem&gt;</peXml>
</coordRef>
<RasterProperties>
<General>
<PixelDepth Sync="TRUE">32</PixelDepth>
<HasColormap Sync="TRUE">FALSE</HasColormap>
<CompressionType Sync="TRUE">None</CompressionType>
<NumBands Sync="TRUE">1</NumBands>
<Format Sync="TRUE">IMAGINE Image</Format>
<HasPyramids Sync="TRUE">TRUE</HasPyramids>
<SourceType Sync="TRUE">continuous</SourceType>
<PixelType Sync="TRUE">floating point</PixelType>
<NoDataValue Sync="TRUE">-3.4028231e+38</NoDataValue>
</General>
</RasterProperties>
</DataProperties>
<SyncDate>20191024</SyncDate>
<SyncTime>08214200</SyncTime>
<ModDate>20191024</ModDate>
<ModTime>08214200</ModTime>
<ArcGISstyle>FGDC CSDGM Metadata</ArcGISstyle>
<scaleRange>
<minScale>2000</minScale>
<maxScale>2000</maxScale>
</scaleRange>
</Esri>
<mdLang>
<languageCode value="eng">
</languageCode>
<countryCode Sync="TRUE" value="USA">
</countryCode>
</mdLang>
<mdChar>
<CharSetCd value="004">
</CharSetCd>
</mdChar>
<mdHrLv>
<ScopeCd value="005">
</ScopeCd>
</mdHrLv>
<mdContact>
<rpIndName>Remote Sensing Department</rpIndName>
<rpOrgName>Dewberry</rpOrgName>
<rpCntInfo>
<cntPhone>
<voiceNum>813-421-8635</voiceNum>
</cntPhone>
<cntAddress addressType="both">
<delPoint>1000 North Ashley Drive, Suite 801</delPoint>
<city>Tampa</city>
<adminArea>FL</adminArea>
<postCode>33602</postCode>
</cntAddress>
<cntHours>8:00 a.m. to 5:00 p.m.</cntHours>
</rpCntInfo>
<role>
<RoleCd value="007">
</RoleCd>
</role>
</mdContact>
<mdStanName>ArcGIS Metadata</mdStanName>
<mdStanVer>1.0</mdStanVer>
<distInfo>
<distributor>
<distorCont>
<rpIndName>Mapping and GIS Section</rpIndName>
<rpOrgName>Southwest Florida Water Management District</rpOrgName>
<rpCntInfo>
<cntPhone>
<voiceNum>(352) 796-7211</voiceNum>
<faxNum>(352) 540-6018</faxNum>
</cntPhone>
<cntAddress addressType="both">
<delPoint>2379 Broad Street (U.S. 41 South)</delPoint>
<city>Brooksville</city>
<adminArea>FL</adminArea>
<postCode>34604-6899</postCode>
</cntAddress>
<cntHours>8:00 a.m. to 5:00 p.m.</cntHours>
</rpCntInfo>
<role>
<RoleCd value="005">
</RoleCd>
</role>
</distorCont>
<distorTran>
<onLineSrc>
<orDesc>These data are being provided on a 'as is' basis. The District specifically disclaims any warranty, expressed or implied, including, but not limited to, the implied warranties or merchantability and fitness for a particular use. The entire risk as to quality and performance is with the user. In no event will the District or its staff be liable for any direct, indirect, incidental, special, consequential, or other damages, including loss of profit, arising out of the use of these data even if the District has been advised of the possibility of such damages. All data are intended for resource management use.</orDesc>
</onLineSrc>
</distorTran>
</distributor>
<distFormat>
<formatName Sync="TRUE">Raster Dataset</formatName>
</distFormat>
</distInfo>
<dataIdInfo>
<idCitation>
<resTitle>Bare-earth Digital Elevation Models (DEMs)</resTitle>
<date>
<pubDate>2019-08-22</pubDate>
</date>
<citRespParty>
<rpOrgName>Dewberry</rpOrgName>
<role>
<RoleCd value="006">
</RoleCd>
</role>
</citRespParty>
<citRespParty>
<rpOrgName>Dewberry</rpOrgName>
<rpCntInfo>
<cntAddress>
<delPoint>1000 North Ashley Drive, Suite 801, Tampa, FL 33602</delPoint>
</cntAddress>
</rpCntInfo>
<role>
<RoleCd value="010">
</RoleCd>
</role>
</citRespParty>
<presForm>
<fgdcGeoform>Elevation Data in Raster Format</fgdcGeoform>
<PresFormCd Sync="TRUE" value="005">
</PresFormCd>
</presForm>
</idCitation>
<idAbs>Dewberry collected 1000 square miles of lidar data in Pasco County, Florida. The nominal pulse spacing for this project was 1 point every 0.35 meters or a nominal pulse density of 8 points per square meter. Dewberrry used proprietary procedures to classify the LAS according to project specifications: 1-Unclassified, 2-Ground, 6-Building Rooftops, 7-Low Noise, 9-Water, 17- Bridge Decks, 18-High Noise. Geometrically unreliable points, ground points within 2 feet of breaklines, and ground points within 3 feet of buiding rooftops have been identified with the Withheld Flag. Overage points have been identified with the Overlap Flag. The lidar data were combined with 3D breaklines compiled by Dewberry to create hydro-enforced bare-earth DEMs. The data were tiled according to the Florida Statewide Lidar Index tiling scheme with each tile covering an area of 5,000 feet by 5,000 ft.</idAbs>
<idPurp>The DEMs model the bare-earth surface and are enforced with the 3D breaklines created for this project.</idPurp>
<idStatus>
<ProgCd value="001">
</ProgCd>
</idStatus>
<idPoC>
<rpIndName>Mapping and GIS Section</rpIndName>
<rpOrgName>Southwest Florida Water Management District</rpOrgName>
<rpCntInfo>
<cntPhone>
<voiceNum>(352) 796-7211</voiceNum>
<faxNum>(352) 540-6018</faxNum>
</cntPhone>
<cntAddress addressType="both">
<delPoint>2379 Broad Street (U.S. 41 South)</delPoint>
<city>Brooksville</city>
<adminArea>FL</adminArea>
<postCode>34604-6899</postCode>
</cntAddress>
<cntHours>8:00 a.m. to 5:00 p.m.</cntHours>
</rpCntInfo>
<role>
<RoleCd value="007">
</RoleCd>
</role>
</idPoC>
<resMaint>
<maintFreq>
<MaintFreqCd value="009">
</MaintFreqCd>
</maintFreq>
</resMaint>
<placeKeys>
<keyword>Pasco County</keyword>
<keyword>Florida</keyword>
</placeKeys>
<themeKeys>
<keyword>Hydro-enforced</keyword>
<keyword>Bare-earth DEM</keyword>
<keyword>Breaklines</keyword>
<keyword>Elevation Data</keyword>
<keyword>Lidar</keyword>
</themeKeys>
<searchKeys>
<keyword>Hydro-enforced</keyword>
<keyword>Bare-earth DEM</keyword>
<keyword>Breaklines</keyword>
<keyword>Elevation Data</keyword>
<keyword>Lidar</keyword>
<keyword>Pasco County</keyword>
<keyword>Florida</keyword>
</searchKeys>
<resConst>
<LegConsts>
<useLimit>Translation of files to formats other than those described here is the sole responsibility of individuals downloading these data.</useLimit>
</LegConsts>
</resConst>
<resConst>
<Consts>
<useLimit>These data were collected under the supervision of a licensed Professional Surveyor and Mapper. Use of these data require a understanding of GIS.</useLimit>
</Consts>
</resConst>
<dataLang>
<languageCode value="eng">
</languageCode>
<countryCode Sync="TRUE" value="USA">
</countryCode>
</dataLang>
<tpCat>
<TopicCatCd value="006">
</TopicCatCd>
</tpCat>
<envirDesc>ESRI ArcCatalog 10.3.</envirDesc>
<dataExt>
<geoEle>
<GeoBndBox>
<westBL>-82.797435</westBL>
<eastBL>-82.050179</eastBL>
<southBL>28.169041</southBL>
<northBL>28.487641</northBL>
</GeoBndBox>
</geoEle>
</dataExt>
<dataExt>
<exDesc>ground condition</exDesc>
<tempEle>
<TempExtent>
<exTemp>
<TM_Period>
<tmBegin>2018-01-14</tmBegin>
<tmEnd>2018-01-25</tmEnd>
</TM_Period>
</exTemp>
</TempExtent>
</tempEle>
<geoEle>
</geoEle>
</dataExt>
<spatRpType>
<SpatRepTypCd Sync="TRUE" value="002">
</SpatRepTypCd>
</spatRpType>
<dataExt>
<geoEle>
<GeoBndBox esriExtentType="search">
<exTypeCode Sync="TRUE">1</exTypeCode>
<westBL Sync="TRUE">-82.797435</westBL>
<eastBL Sync="TRUE">-82.050179</eastBL>
<northBL Sync="TRUE">28.487641</northBL>
<southBL Sync="TRUE">28.169041</southBL>
</GeoBndBox>
</geoEle>
</dataExt>
<idCredit/>
</dataIdInfo>
<dqInfo>
<dqScope>
<scpLvl>
<ScopeCd value="005">
</ScopeCd>
</scpLvl>
</dqScope>
<report type="DQConcConsis">
<measDesc>Data covers the project tiling scheme.</measDesc>
</report>
<report type="DQCompOm">
<measDesc>A visual qualitative assessment was performed to ensure data completeness and bare earth data refinement. No void or missing data.</measDesc>
</report>
<report dimension="horizontal" type="DQAbsExtPosAcc">
<measDesc>The DEMs are derived from the source lidar and 3D breaklines created from the lidar. Horizontal accuracy is not performed on the DEMs or breaklines. Only checkpoints photo-identifiable in the intensity imagery can be used to test the horizontal accuracy of the lidar. Photo-identifiable checkpoints in intensity imagery typically include checkpoints located at the ends of paint stripes on concrete or asphalt surfaces or checkpoints located at 90 degree corners of different reflectivity, e.g. a sidewalk corner adjoining a grass surface. The xy coordinates of checkpoints, as defined in the intensity imagery, are compared to surveyed xy coordinates for each photo-identifiable checkpoint. These differences are used to compute the tested horizontal accuracy of the lidar. As not all projects contain photo-identifiable checkpoints, the horizontal accuracy of the lidar cannot always be tested. Lidar systems are calibrated during installation of the system and then again for every project acquired. Typical calibrations include cross flights that capture features from multiple directions that allow adjustments to be performed so that the captured features are consistent between all swaths and cross flights from all directions. This data set was produced to meet ASPRS Positional Accuracy Standards for Digital Geospatial Data (2014) for a 1.56 ft (47 cm) RMSEx/RMSEy Horizontal Accuracy Class which equates to Positional Horizontal Accuracy = +/- 3.82 ft (116 cm) at a 95% confidence level. Any checkpoints determined to be photo-identifiable will be used to test the horizontal accuracy of the lidar dataset. These results will be reported in the full project metadata deliverables.</measDesc>
</report>
<report dimension="vertical" type="DQAbsExtPosAcc">
<measDesc>The DEMs are derived from the source lidar and 3D breaklines created from the lidar. The DEMs are created using controlled and tested methods to limit the amount of error introduced during DEM production so that any differences identified between the source lidar and final DEMs can be attributed to interpolation differences. DEMs are created by averaging several lidar points within each pixel which may result in slightly different elevation values at a given location when compared to the source LAS, which is tested by comparing survey checkpoints to a triangulated irregular network (TIN) that is created from the lidar ground points. TINs do not average several lidar points together but interpolate (linearly) between two or three points to derive an elevation value. The vertical accuracy of the final bare-earth DEMs will be tested by Dewberry with independent survey checkpoints. The vertical accuracy is tested by extracting the elevation of the pixel that contains the x/y coordinates of the checkpoint and comparing these DEM elevations to the surveyed elevations. All checkpoints located over well-defined surfaces will be used to compute the Fundamental Vertical Accuracy (FVA) of the lidar data. Project specifications required a FVA of 0.64 ft (19.6 cm) at the 95% confidence level based on RMSEz (0.33 ft/10 cm) x 1.9600. See the final Report of Survey for tested Supplement Vertical Accuracy (SVA) and Consolidated Vertical Accuracy (CVA).</measDesc>
</report>
<dataLineage>
<prcStep>
<stepDesc>Class 2, ground, lidar points are exported from the LAS files into an Arc Geodatabase (GDB) in multipoint format. The 3D breaklines, water bodies, hydrographic features, and islands are imported into the same GDB. 2D building footprints are buffered by 3 feet and the highest ground elevation within the buffered footprint is applied to the entire footprint. The 3D building footprints are then imported into the same GDB as the multipoints and other 3D breaklines. An ESRI Terrain is generated from these inputs. The surface type of each input is as follows: Ground Multipoint: Masspoints Water bodies: Hard Replace Hydrographic feature : Hard Line Islands : Hard Line Building Footprint: Hard Replace The ESRI Terrain is converted to a raster. The raster is created using linear interpolation with a 2.5 foot cell size. The DEM is reviewed with hillshades in both ArcGIS and Global Mapper. Hillshades allow the analyst to view the DEMs in 3D and to more efficiently locate and identify potential issues. Analysts review the DEM for missed lidar classification issues, incorrect breakline elevations, incorrect hydro-flattening or hydro-enforcement, and artifacts that are introduced during the raster creation process. The corrected and final DEM is clipped to individual tiles. Dewberry uses a proprietary tool that clips the DEM to each tile located within the final Tile Grid, names the clipped DEM to the Tile Grid Cell name, and verifies that final extents are correct. All individual tiles are loaded into Global Mapper for the last review. During this last review, an analsyt checks to ensure full, complete coverage, no issues along tile boundaries, tiles seamlessly edge-match, and that there are no remaining processing artifacts in the dataset.</stepDesc>
<stepDateTm>2018-03-01</stepDateTm>
<stepProc>
<rpIndName>Keith Patterson</rpIndName>
<rpOrgName>Dewberry</rpOrgName>
<rpCntInfo>
<cntPhone>
<voiceNum>813-421-8635</voiceNum>
</cntPhone>
<cntAddress addressType="both">
<delPoint>1000 North Ashley Drive, Suite 801</delPoint>
<city>Tampa</city>
<adminArea>FL</adminArea>
<postCode>33602</postCode>
</cntAddress>
<cntHours>8:00 a.m. to 5:00 p.m.</cntHours>
</rpCntInfo>
<role>
<RoleCd value="009">
</RoleCd>
</role>
</stepProc>
<stepSrc type="used">
<srcCitatn>
<resAltTitle>Tiled Lidar</resAltTitle>
</srcCitatn>
</stepSrc>
<stepSrc type="used">
<srcCitatn>
<resAltTitle>3D Breaklines</resAltTitle>
</srcCitatn>
</stepSrc>
</prcStep>
<dataSource>
<srcDesc>The 3D breaklines were used to enforce elevations along hydrographic features, water bodies, islands, and building footprints were used to cause water to flow around buildings in the bare-earth DEMs.</srcDesc>
<srcMedName>
<MedNameCd value="015">
</MedNameCd>
</srcMedName>
<srcScale>
<rfDenom>2000</rfDenom>
</srcScale>
<srcCitatn>
<resTitle>3D Breaklines</resTitle>
<resAltTitle>none</resAltTitle>
<date>
<pubDate>2018-03-26</pubDate>
</date>
<citRespParty>
<rpOrgName>Dewberry</rpOrgName>
<rpCntInfo>
<cntAddress>
<delPoint>1000 North Ashley Drive, Suite 801, Tampa, FL 33602</delPoint>
</cntAddress>
</rpCntInfo>
<role>
<RoleCd value="010">
</RoleCd>
</role>
</citRespParty>
<citRespParty>
<rpOrgName>Dewberry</rpOrgName>
<role>
<RoleCd value="006">
</RoleCd>
</role>
</citRespParty>
<otherCitDet>813-225-1325</otherCitDet>
</srcCitatn>
<srcExt>
<exDesc>ground condition</exDesc>
<tempEle>
<TempExtent>
<exTemp>
<TM_Period>
<tmBegin>2018-01-14</tmBegin>
<tmEnd>2018-01-25</tmEnd>
</TM_Period>
</exTemp>
</TempExtent>
</tempEle>
</srcExt>
</dataSource>
<dataSource>
<srcDesc>Class 2, ground, was used from the tiled lidar to create the bare-earth DEM masspoints.</srcDesc>
<srcMedName>
<MedNameCd value="015">
</MedNameCd>
</srcMedName>
<srcScale>
<rfDenom>2000</rfDenom>
</srcScale>
<srcCitatn>
<resTitle>Tiled Lidar</resTitle>
<resAltTitle>none</resAltTitle>
<date>
<pubDate>2018-03-26</pubDate>
</date>
<citRespParty>
<rpOrgName>Dewberry</rpOrgName>
<rpCntInfo>
<cntAddress>
<delPoint>1000 North Ashley Drive, Suite 801, Tampa, FL 33602</delPoint>
</cntAddress>
</rpCntInfo>
<role>
<RoleCd value="010">
</RoleCd>
</role>
</citRespParty>
<citRespParty>
<rpOrgName>Dewberry</rpOrgName>
<role>
<RoleCd value="006">
</RoleCd>
</role>
</citRespParty>
<otherCitDet>813-225-1325</otherCitDet>
</srcCitatn>
<srcExt>
<exDesc>ground condition</exDesc>
<tempEle>
<TempExtent>
<exTemp>
<TM_Period>
<tmBegin>2017-01-31</tmBegin>
<tmEnd>2017-03-28</tmEnd>
</TM_Period>
</exTemp>
</TempExtent>
</tempEle>
</srcExt>
</dataSource>
</dataLineage>
</dqInfo>
<spatRepInfo>
<Georect>
<numDims>2</numDims>
<axisDimension type="001">
<dimSize>2000</dimSize>
<dimResol>
<value Sync="TRUE" uom="ftUS">2.500000</value>
</dimResol>
</axisDimension>
<axisDimension type="002">
<dimSize>2000</dimSize>
<dimResol>
<value Sync="TRUE" uom="ftUS">2.500000</value>
</dimResol>
</axisDimension>
<axisDimension type="003">
<dimSize>1</dimSize>
</axisDimension>
<cellGeo>
<CellGeoCd Sync="TRUE" value="002">
</CellGeoCd>
</cellGeo>
<tranParaAv Sync="TRUE">1</tranParaAv>
<chkPtAv Sync="TRUE">0</chkPtAv>
<cornerPts>
<pos Sync="TRUE">400000.000000 1395000.000000</pos>
</cornerPts>
<cornerPts>
<pos Sync="TRUE">400000.000000 1510000.000000</pos>
</cornerPts>
<cornerPts>
<pos Sync="TRUE">640000.000000 1510000.000000</pos>
</cornerPts>
<cornerPts>
<pos Sync="TRUE">640000.000000 1395000.000000</pos>
</cornerPts>
<centerPt>
<pos Sync="TRUE">520000.000000 1452500.000000</pos>
</centerPt>
<ptInPixel>
<PixOrientCd Sync="TRUE" value="001">
</PixOrientCd>
</ptInPixel>
</Georect>
</spatRepInfo>
<mdHrLvName Sync="TRUE">dataset</mdHrLvName>
<refSysInfo>
<RefSystem>
<refSysID>
<identCode Sync="TRUE" code="6443">
</identCode>
<idCodeSpace Sync="TRUE">EPSG</idCodeSpace>
<idVersion Sync="TRUE">8.9.3(10.3.1)</idVersion>
</refSysID>
</RefSystem>
</refSysInfo>
<contInfo>
<ImgDesc>
<contentTyp>
<ContentTypCd Sync="TRUE" value="001">
</ContentTypCd>
</contentTyp>
<covDim>
<Band>
<dimDescrp Sync="TRUE">Layer_1</dimDescrp>
<maxVal Sync="TRUE">301.897919</maxVal>
<minVal Sync="TRUE">-4.067044</minVal>
<bitsPerVal Sync="TRUE">32</bitsPerVal>
<valUnit>
<UOM type="length">
</UOM>
</valUnit>
</Band>
</covDim>
</ImgDesc>
</contInfo>
<mdDateSt Sync="TRUE">20191024</mdDateSt>
</metadata>
