{
 "currentVersion": 10.91,
 "serviceDescription": "Dewberry collected 1200 square miles of lidar data in Hillsborough County, Florida. The nominal pulse spacing for this project was 1 point every 0.25 meters or a nominal pulse density of 16 points per square meter. Dewberrry used proprietary procedures to classify the LAS according to project specifications: 1-Unclassified, 2-Ground, 6-Building Rooftops, 7-Low Noise, 9-Water, 17- Bridge Decks, 18-High Noise. Geometrically unreliable points, ground points within 2 feet of breaklines, and ground points within 3 feet of buiding rooftops have been identified with the Withheld Flag. Overage points have been identified with the Overlap Flag. The lidar data were combined with 3D breaklines compiled by Dewberry to create hydro-enforced bare-earth DEMs. The data were tiled according to the Florida Statewide Lidar Index tiling scheme with each tile covering an area of 5,000 feet by 5,000 ft.",
 "name": "DEM/HillsboroughDEM17",
 "description": "Dewberry collected 1200 square miles of lidar data in Hillsborough County, Florida. The nominal pulse spacing for this project was 1 point every 0.25 meters or a nominal pulse density of 16 points per square meter. Dewberrry used proprietary procedures to classify the LAS according to project specifications: 1-Unclassified, 2-Ground, 6-Building Rooftops, 7-Low Noise, 9-Water, 17- Bridge Decks, 18-High Noise. Geometrically unreliable points, ground points within 2 feet of breaklines, and ground points within 3 feet of buiding rooftops have been identified with the Withheld Flag. Overage points have been identified with the Overlap Flag. The lidar data were combined with 3D breaklines compiled by Dewberry to create hydro-enforced bare-earth DEMs. The data were tiled according to the Florida Statewide Lidar Index tiling scheme with each tile covering an area of 5,000 feet by 5,000 ft.",
 "extent": {
  "xmin": 445000.0001220703,
  "ymin": 1200000.0001220703,
  "xmax": 640000.0001220703,
  "ymax": 1400000.0001220703,
  "spatialReference": {
   "wkid": 103023,
   "latestWkid": 6443,
   "vcsWkid": 105703,
   "latestVcsWkid": 6360
  }
 },
 "initialExtent": {
  "xmin": 445000.0001220703,
  "ymin": 1200000.0001220703,
  "xmax": 640000.0001220703,
  "ymax": 1400000.0001220703,
  "spatialReference": {
   "wkid": 103023,
   "latestWkid": 6443,
   "vcsWkid": 105703,
   "latestVcsWkid": 6360
  }
 },
 "fullExtent": {
  "xmin": 445000.0001220703,
  "ymin": 1200000.0001220703,
  "xmax": 640000.0001220703,
  "ymax": 1400000.0001220703,
  "spatialReference": {
   "wkid": 103023,
   "latestWkid": 6443,
   "vcsWkid": 105703,
   "latestVcsWkid": 6360
  }
 },
 "heightModelInfo": {
  "heightModel": "gravity_related_height",
  "vertCRS": "NAVD88_height_(ftUS)",
  "heightUnit": "us-foot"
 },
 "pixelSizeX": 2.5,
 "pixelSizeY": 2.5,
 "bandCount": 1,
 "pixelType": "F32",
 "minPixelSize": 0,
 "maxPixelSize": 0,
 "copyrightText": "",
 "serviceDataType": "esriImageServiceDataTypeGeneric",
 "minValues": [
  -33.320350646973
 ],
 "maxValues": [
  341.2799987793
 ],
 "meanValues": [
  58.757045477432
 ],
 "stdvValues": [
  40.235932137521
 ],
 "objectIdField": "",
 "fields": [],
 "capabilities": "Image,Metadata,Mensuration",
 "defaultMosaicMethod": "Center",
 "allowedMosaicMethods": "",
 "sortField": "",
 "sortValue": null,
 "sortAscending": true,
 "mosaicOperator": "First",
 "defaultCompressionQuality": 75,
 "defaultResamplingMethod": "Bilinear",
 "maxImageHeight": 4100,
 "maxImageWidth": 15000,
 "allowRasterFunction": true,
 "rasterFunctionInfos": [
  {
   "name": "None",
   "description": "",
   "help": ""
  }
 ],
 "rasterTypeInfos": [
  {
   "name": "Raster Dataset",
   "description": "Supports all ArcGIS Raster Datasets",
   "help": ""
  }
 ],
 "mensurationCapabilities": "Basic",
 "hasHistograms": true,
 "hasColormap": false,
 "hasRasterAttributeTable": false,
 "minScale": 0,
 "maxScale": 0,
 "exportTilesAllowed": false,
 "hasMultidimensions": false,
 "supportsStatistics": false,
 "supportsAdvancedQueries": false,
 "editFieldsInfo": null,
 "ownershipBasedAccessControlForRasters": null,
 "allowComputeTiePoints": false,
 "useStandardizedQueries": true,
 "advancedQueryCapabilities": {
  "useStandardizedQueries": true,
  "supportsStatistics": false,
  "supportsOrderBy": false,
  "supportsDistinct": false,
  "supportsPagination": false
 },
 "spatialReference": {
  "wkid": 103023,
  "latestWkid": 6443,
  "vcsWkid": 105703,
  "latestVcsWkid": 6360
 }
}
