{ "currentVersion": 10.91, "serviceDescription": "
This DEM was constructed from multiple-year LiDAR missions. The LiDAR Hydro-flattened 5' cell size DTMs were combined from 2006 - 2018 to construct this DTM. The details of any single 5000' x 5000' cell are found in the \"LiDARTilesforDEMs_Jan2019.shp\" located in the METADATA Directory<\/SPAN><\/P><\/DIV><\/DIV><\/DIV>",
"name": "DEM/CitrusDEM18",
"description": " This DEM was constructed from multiple-year LiDAR missions. The LiDAR Hydro-flattened 5' cell size DTMs were combined from 2006 - 2018 to construct this DTM. The details of any single 5000' x 5000' cell are found in the \"LiDARTilesforDEMs_Jan2019.shp\" located in the METADATA Directory<\/SPAN><\/P><\/DIV><\/DIV><\/DIV>",
"extent": {
"xmin": 414999.9999999997,
"ymin": 1574999.9999999998,
"xmax": 599999.9999999998,
"ymax": 1719999.9999999998,
"spatialReference": {
"wkid": 103023,
"latestWkid": 6443
}
},
"initialExtent": {
"xmin": 414999.9999999997,
"ymin": 1574999.9999999998,
"xmax": 599999.9999999998,
"ymax": 1719999.9999999998,
"spatialReference": {
"wkid": 103023,
"latestWkid": 6443
}
},
"fullExtent": {
"xmin": 414999.9999999997,
"ymin": 1574999.9999999998,
"xmax": 599999.9999999998,
"ymax": 1719999.9999999998,
"spatialReference": {
"wkid": 103023,
"latestWkid": 6443
}
},
"pixelSizeX": 5.000000000000002,
"pixelSizeY": 5,
"bandCount": 1,
"pixelType": "F32",
"minPixelSize": 0,
"maxPixelSize": 0,
"copyrightText": "Southwest Florida Water Management District\n Mapping & GIS\n2379 Broad Street\nBrooksville, FL 34604\n\n352-796-7211 x 4200",
"serviceDataType": "esriImageServiceDataTypeGeneric",
"minValues": [
-2
],
"maxValues": [
244.83000183105
],
"meanValues": [
49.795779961184
],
"stdvValues": [
39.266162768639
],
"objectIdField": "",
"fields": [],
"capabilities": "Image,Metadata,Mensuration",
"defaultMosaicMethod": "Center",
"allowedMosaicMethods": "",
"sortField": "",
"sortValue": null,
"sortAscending": true,
"mosaicOperator": "First",
"defaultCompressionQuality": 75,
"defaultResamplingMethod": "Bilinear",
"maxImageHeight": 4100,
"maxImageWidth": 15000,
"allowRasterFunction": true,
"rasterFunctionInfos": [
{
"name": "None",
"description": "",
"help": ""
}
],
"rasterTypeInfos": [
{
"name": "Raster Dataset",
"description": "Supports all ArcGIS Raster Datasets",
"help": ""
}
],
"mensurationCapabilities": "Basic",
"hasHistograms": true,
"hasColormap": false,
"hasRasterAttributeTable": false,
"minScale": 0,
"maxScale": 0,
"exportTilesAllowed": false,
"hasMultidimensions": false,
"supportsStatistics": false,
"supportsAdvancedQueries": false,
"editFieldsInfo": null,
"ownershipBasedAccessControlForRasters": null,
"allowComputeTiePoints": false,
"useStandardizedQueries": true,
"advancedQueryCapabilities": {
"useStandardizedQueries": true,
"supportsStatistics": false,
"supportsOrderBy": false,
"supportsDistinct": false,
"supportsPagination": false
},
"spatialReference": {
"wkid": 103023,
"latestWkid": 6443
}
}