{
 "currentVersion": 10.91,
 "serviceDescription": "DEM/CharlotteDEM15",
 "name": "DEM/CharlotteDEM15",
 "description": "",
 "extent": {
  "xmin": 530000,
  "ymin": 880000.0000000075,
  "xmax": 825000,
  "ymax": 985000.0000000075,
  "spatialReference": {
   "wkid": 2882,
   "latestWkid": 2882,
   "vcsWkid": 105703,
   "latestVcsWkid": 6360
  }
 },
 "initialExtent": {
  "xmin": 530000,
  "ymin": 880000.0000000075,
  "xmax": 825000,
  "ymax": 985000.0000000075,
  "spatialReference": {
   "wkid": 2882,
   "latestWkid": 2882,
   "vcsWkid": 105703,
   "latestVcsWkid": 6360
  }
 },
 "fullExtent": {
  "xmin": 530000,
  "ymin": 880000.0000000075,
  "xmax": 825000,
  "ymax": 985000.0000000075,
  "spatialReference": {
   "wkid": 2882,
   "latestWkid": 2882,
   "vcsWkid": 105703,
   "latestVcsWkid": 6360
  }
 },
 "heightModelInfo": {
  "heightModel": "gravity_related_height",
  "vertCRS": "NAVD_1988_Foot_US",
  "heightUnit": "us-foot"
 },
 "pixelSizeX": 5,
 "pixelSizeY": 5,
 "bandCount": 1,
 "pixelType": "F32",
 "minPixelSize": 0,
 "maxPixelSize": 0,
 "copyrightText": "",
 "serviceDataType": "esriImageServiceDataTypeGeneric",
 "minValues": [
  -43.259998321533
 ],
 "maxValues": [
  118.52355194092
 ],
 "meanValues": [
  23.808845973578
 ],
 "stdvValues": [
  17.245382963082
 ],
 "objectIdField": "",
 "fields": [],
 "capabilities": "Image,Metadata,Mensuration",
 "defaultMosaicMethod": "Center",
 "allowedMosaicMethods": "",
 "sortField": "",
 "sortValue": null,
 "sortAscending": true,
 "mosaicOperator": "First",
 "defaultCompressionQuality": 75,
 "defaultResamplingMethod": "Bilinear",
 "maxImageHeight": 4100,
 "maxImageWidth": 15000,
 "allowRasterFunction": true,
 "rasterFunctionInfos": [
  {
   "name": "None",
   "description": "",
   "help": ""
  }
 ],
 "rasterTypeInfos": [
  {
   "name": "Raster Dataset",
   "description": "Supports all ArcGIS Raster Datasets",
   "help": ""
  }
 ],
 "mensurationCapabilities": "Basic",
 "hasHistograms": true,
 "hasColormap": false,
 "hasRasterAttributeTable": false,
 "minScale": 0,
 "maxScale": 0,
 "exportTilesAllowed": false,
 "hasMultidimensions": false,
 "supportsStatistics": false,
 "supportsAdvancedQueries": false,
 "editFieldsInfo": null,
 "ownershipBasedAccessControlForRasters": null,
 "allowComputeTiePoints": false,
 "useStandardizedQueries": true,
 "advancedQueryCapabilities": {
  "useStandardizedQueries": true,
  "supportsStatistics": false,
  "supportsOrderBy": false,
  "supportsDistinct": false,
  "supportsPagination": false
 },
 "spatialReference": {
  "wkid": 2882,
  "latestWkid": 2882,
  "vcsWkid": 105703,
  "latestVcsWkid": 6360
 }
}
