<?xml version="1.0" encoding="UTF-8" standalone="no"?>
<metadata xml:lang="en">
<Esri>
<CreaDate>20200610</CreaDate>
<CreaTime>09103700</CreaTime>
<ArcGISFormat>1.0</ArcGISFormat>
<SyncOnce>FALSE</SyncOnce>
<DataProperties>
<itemProps>
<itemName Sync="TRUE">dtm1</itemName>
<imsContentType Sync="TRUE">002</imsContentType>
<nativeExtBox>
<westBL Sync="TRUE">547645.000000</westBL>
<eastBL Sync="TRUE">552505.000000</eastBL>
<southBL Sync="TRUE">1358645.000000</southBL>
<northBL Sync="TRUE">1361790.000000</northBL>
<exTypeCode Sync="TRUE">1</exTypeCode>
</nativeExtBox>
</itemProps>
<coordRef>
<type Sync="TRUE">Projected</type>
<geogcsn Sync="TRUE">GCS_North_American_1983_HARN</geogcsn>
<csUnits Sync="TRUE">Linear Unit: Foot_US (0.304801)</csUnits>
<projcsn Sync="TRUE">NAD_1983_HARN_StatePlane_Florida_West_FIPS_0902_Feet</projcsn>
<peXml Sync="TRUE">&lt;ProjectedCoordinateSystem xsi:type='typens:ProjectedCoordinateSystem' xmlns:xsi='http://www.w3.org/2001/XMLSchema-instance' xmlns:xs='http://www.w3.org/2001/XMLSchema' xmlns:typens='http://www.esri.com/schemas/ArcGIS/10.8'&gt;&lt;WKT&gt;PROJCS[&amp;quot;NAD_1983_HARN_StatePlane_Florida_West_FIPS_0902_Feet&amp;quot;,GEOGCS[&amp;quot;GCS_North_American_1983_HARN&amp;quot;,DATUM[&amp;quot;D_North_American_1983_HARN&amp;quot;,SPHEROID[&amp;quot;GRS_1980&amp;quot;,6378137.0,298.257222101]],PRIMEM[&amp;quot;Greenwich&amp;quot;,0.0],UNIT[&amp;quot;Degree&amp;quot;,0.0174532925199433]],PROJECTION[&amp;quot;Transverse_Mercator&amp;quot;],PARAMETER[&amp;quot;False_Easting&amp;quot;,656166.6666666665],PARAMETER[&amp;quot;False_Northing&amp;quot;,0.0],PARAMETER[&amp;quot;Central_Meridian&amp;quot;,-82.0],PARAMETER[&amp;quot;Scale_Factor&amp;quot;,0.9999411764705882],PARAMETER[&amp;quot;Latitude_Of_Origin&amp;quot;,24.33333333333333],UNIT[&amp;quot;Foot_US&amp;quot;,0.3048006096012192]],VERTCS[&amp;quot;NAVD88_height_(ftUS)&amp;quot;,VDATUM[&amp;quot;North_American_Vertical_Datum_1988&amp;quot;],PARAMETER[&amp;quot;Vertical_Shift&amp;quot;,0.0],PARAMETER[&amp;quot;Direction&amp;quot;,1.0],UNIT[&amp;quot;Foot_US&amp;quot;,0.3048006096012192]]&lt;/WKT&gt;&lt;XOrigin&gt;-17791300&lt;/XOrigin&gt;&lt;YOrigin&gt;-41645400&lt;/YOrigin&gt;&lt;XYScale&gt;137249422.94257641&lt;/XYScale&gt;&lt;ZOrigin&gt;-100000&lt;/ZOrigin&gt;&lt;ZScale&gt;10000&lt;/ZScale&gt;&lt;MOrigin&gt;-100000&lt;/MOrigin&gt;&lt;MScale&gt;10000&lt;/MScale&gt;&lt;XYTolerance&gt;0.0032808333333333331&lt;/XYTolerance&gt;&lt;ZTolerance&gt;0.001&lt;/ZTolerance&gt;&lt;MTolerance&gt;0.001&lt;/MTolerance&gt;&lt;HighPrecision&gt;true&lt;/HighPrecision&gt;&lt;WKID&gt;2882&lt;/WKID&gt;&lt;LatestWKID&gt;2882&lt;/LatestWKID&gt;&lt;VCSWKID&gt;105703&lt;/VCSWKID&gt;&lt;LatestVCSWKID&gt;6360&lt;/LatestVCSWKID&gt;&lt;/ProjectedCoordinateSystem&gt;</peXml>
</coordRef>
<RasterProperties>
<General>
<PixelDepth Sync="TRUE">32</PixelDepth>
<HasColormap Sync="TRUE">FALSE</HasColormap>
<CompressionType Sync="TRUE">LZW</CompressionType>
<NumBands Sync="TRUE">1</NumBands>
<Format Sync="TRUE">TIFF</Format>
<HasPyramids Sync="TRUE">TRUE</HasPyramids>
<SourceType Sync="TRUE">continuous</SourceType>
<PixelType Sync="TRUE">floating point</PixelType>
<NoDataValue Sync="TRUE">-3.4028235e+38</NoDataValue>
</General>
</RasterProperties>
</DataProperties>
<SyncDate>20220513</SyncDate>
<SyncTime>14060100</SyncTime>
<ModDate>20220513</ModDate>
<ModTime>14060100</ModTime>
<scaleRange>
<minScale>150000000</minScale>
<maxScale>5000</maxScale>
</scaleRange>
</Esri>
<dataIdInfo>
<envirDesc Sync="TRUE"> Version 6.2 (Build 9200) ; Esri ArcGIS 10.8.1.14362</envirDesc>
<dataLang>
<languageCode Sync="TRUE" value="eng">
</languageCode>
<countryCode Sync="TRUE" value="USA">
</countryCode>
</dataLang>
<idCitation>
<resTitle Sync="TRUE">dtm1</resTitle>
<presForm>
<PresFormCd Sync="TRUE" value="011">
</PresFormCd>
</presForm>
<date>
<pubDate>2020-08-18T00:00:00</pubDate>
</date>
<citRespParty>
<rpIndName>Springs and Environmental Flows Section</rpIndName>
<rpOrgName>Southwest Florida Water Management District</rpOrgName>
<rpCntInfo>
<cntAddress addressType="both">
<delPoint>2379 Broad Street</delPoint>
<city>Brooksville</city>
<adminArea>FL</adminArea>
<postCode>34604</postCode>
<eMailAdd>danielle.rogers@swfwmd.state.fl.us</eMailAdd>
</cntAddress>
<cntPhone>
<voiceNum tddtty="">352-796-7211</voiceNum>
</cntPhone>
<cntOnlineRes>
<linkage>withheld</linkage>
<orFunct>
<OnFunctCd value="002">
</OnFunctCd>
</orFunct>
</cntOnlineRes>
</rpCntInfo>
<displayName>Springs and Environmental Flows Section</displayName>
<role>
<RoleCd value="003">
</RoleCd>
</role>
</citRespParty>
<citRespParty>
<rpIndName>BJ Bukata</rpIndName>
<rpOrgName>Jones Edmunds and Associates</rpOrgName>
<role>
<RoleCd value="006">
</RoleCd>
</role>
<rpCntInfo>
<cntAddress addressType="both">
<delPoint>730 NE Waldo Road</delPoint>
<city>Gainesville</city>
<adminArea>FL</adminArea>
<postCode>32641</postCode>
<eMailAdd>BBukata@jonesedmunds.com</eMailAdd>
</cntAddress>
<cntPhone>
<voiceNum tddtty="">352-377-5821</voiceNum>
</cntPhone>
</rpCntInfo>
</citRespParty>
</idCitation>
<spatRpType>
<SpatRepTypCd Sync="TRUE" value="002">
</SpatRepTypCd>
</spatRpType>
<dataExt>
<geoEle>
<GeoBndBox esriExtentType="search">
<exTypeCode Sync="TRUE">1</exTypeCode>
<westBL Sync="TRUE">-82.336550</westBL>
<eastBL Sync="TRUE">-82.321452</eastBL>
<northBL Sync="TRUE">28.079627</northBL>
<southBL Sync="TRUE">28.070940</southBL>
</GeoBndBox>
</geoEle>
<exDesc>created from various data sets</exDesc>
<tempEle>
<TempExtent>
<exTemp>
<TM_Period>
<tmBegin>2020-08-18T00:00:00</tmBegin>
</TM_Period>
</exTemp>
</TempExtent>
</tempEle>
</dataExt>
<idPurp>Layer used to support water use permit requirements for permit 20020574.000 for Morris Bridge Sink. This work was performed by Jones Edmunds and Associates...</idPurp>
<idAbs>&lt;DIV STYLE="text-align:Left;"&gt;&lt;DIV&gt;&lt;DIV&gt;&lt;P&gt;&lt;SPAN&gt;Represents the land surface elevations of the Morris Bridge Sink wetlands. These wetlands include Nursery Marsh (wetland ID 539), Nursery Cypress (Wetland ID 540), and Cypress Marsh (Wetland ID 543). This layer is used to calculate wetland stage area relationships for inundation. &lt;/SPAN&gt;&lt;/P&gt;&lt;/DIV&gt;&lt;/DIV&gt;&lt;/DIV&gt;</idAbs>
<idCredit>Jones Edmunds and Associates, Southwest Florida Water Management District</idCredit>
<searchKeys>
<keyword>Southwest Florida Water Management District</keyword>
<keyword>SWFWMD</keyword>
<keyword>MFL</keyword>
</searchKeys>
<dataChar>
<CharSetCd value="004">
</CharSetCd>
</dataChar>
<suppInfo>See related technical memorandum completed under the TWA for bathymetric analysis for additional details.</suppInfo>
<idStatus>
<ProgCd value="001">
</ProgCd>
</idStatus>
<idPoC>
<rpIndName>Springs and Environmental Flows Section</rpIndName>
<rpOrgName>Southwest Florida Water Management District</rpOrgName>
<rpCntInfo>
<cntAddress addressType="both">
<delPoint>2379 Broad Street</delPoint>
<city>Brooksville</city>
<adminArea>FL</adminArea>
<postCode>34604</postCode>
<eMailAdd>danielle.rogers@swfwmd.state.fl.us</eMailAdd>
</cntAddress>
<cntPhone>
<voiceNum tddtty="">352-796-7211</voiceNum>
</cntPhone>
<cntOnlineRes>
<linkage>withheld</linkage>
<orFunct>
<OnFunctCd value="002">
</OnFunctCd>
</orFunct>
</cntOnlineRes>
</rpCntInfo>
<displayName>Springs and Environmental Flows Section</displayName>
<role>
<RoleCd value="003">
</RoleCd>
</role>
<displayName>Springs and Environmental Flows Section</displayName>
</idPoC>
<idPoC>
<rpIndName>BJ Bukata</rpIndName>
<rpOrgName>Jones Edmunds and Associates</rpOrgName>
<role>
<RoleCd value="006">
</RoleCd>
</role>
<rpCntInfo>
<cntAddress addressType="both">
<delPoint>730 NE Waldo Road</delPoint>
<city>Gainesville</city>
<adminArea>FL</adminArea>
<postCode>32641</postCode>
<eMailAdd>BBukata@jonesedmunds.com</eMailAdd>
</cntAddress>
<cntPhone>
<voiceNum tddtty="">352-377-5821</voiceNum>
</cntPhone>
</rpCntInfo>
<displayName>BJ Bukata</displayName>
</idPoC>
<resMaint>
<maintFreq>
<MaintFreqCd value="011">
</MaintFreqCd>
</maintFreq>
</resMaint>
<resConst>
<Consts>
<useLimit/>
</Consts>
</resConst>
</dataIdInfo>
<mdLang>
<languageCode Sync="TRUE" value="eng">
</languageCode>
<countryCode Sync="TRUE" value="USA">
</countryCode>
</mdLang>
<mdChar>
<CharSetCd Sync="TRUE" value="004">
</CharSetCd>
</mdChar>
<distInfo>
<distFormat>
<formatName Sync="TRUE">File Geodatabase Raster Dataset</formatName>
</distFormat>
</distInfo>
<mdHrLv>
<ScopeCd Sync="TRUE" value="005">
</ScopeCd>
</mdHrLv>
<mdHrLvName Sync="TRUE">dataset</mdHrLvName>
<refSysInfo>
<RefSystem>
<refSysID>
<identCode Sync="TRUE" code="2882">
</identCode>
<idCodeSpace Sync="TRUE">EPSG</idCodeSpace>
<idVersion Sync="TRUE">8.9.3(9.0.0)</idVersion>
</refSysID>
</RefSystem>
</refSysInfo>
<spatRepInfo>
<Georect>
<cellGeo>
<CellGeoCd Sync="TRUE" value="002">
</CellGeoCd>
</cellGeo>
<numDims Sync="TRUE">2</numDims>
<tranParaAv Sync="TRUE">1</tranParaAv>
<chkPtAv Sync="TRUE">0</chkPtAv>
<cornerPts>
<pos Sync="TRUE">547645.000000 1358645.000000</pos>
</cornerPts>
<cornerPts>
<pos Sync="TRUE">547645.000000 1361790.000000</pos>
</cornerPts>
<cornerPts>
<pos Sync="TRUE">552505.000000 1361790.000000</pos>
</cornerPts>
<cornerPts>
<pos Sync="TRUE">552505.000000 1358645.000000</pos>
</cornerPts>
<centerPt>
<pos Sync="TRUE">550075.000000 1360217.500000</pos>
</centerPt>
<axisDimension type="002">
<dimSize Sync="TRUE">1944</dimSize>
<dimResol>
<value Sync="TRUE" uom="ftUS">2.500000</value>
</dimResol>
</axisDimension>
<axisDimension type="001">
<dimSize Sync="TRUE">1258</dimSize>
<dimResol>
<value Sync="TRUE" uom="ftUS">2.500000</value>
</dimResol>
</axisDimension>
<ptInPixel>
<PixOrientCd Sync="TRUE" value="001">
</PixOrientCd>
</ptInPixel>
</Georect>
</spatRepInfo>
<contInfo>
<ImgDesc>
<contentTyp>
<ContentTypCd Sync="TRUE" value="001">
</ContentTypCd>
</contentTyp>
<covDim>
<Band>
<dimDescrp Sync="TRUE">Band_1</dimDescrp>
<maxVal Sync="TRUE">57.629997</maxVal>
<minVal Sync="TRUE">22.267948</minVal>
<bitsPerVal Sync="TRUE">32</bitsPerVal>
<valUnit>
<UOM gmlID="" type="length">
<unitSymbol>[ft_br]</unitSymbol>
</UOM>
</valUnit>
</Band>
</covDim>
<attDesc>surface elevations of the wetlands within Morris Bridge Sink in Feet NAVD88</attDesc>
<trianInd>False</trianInd>
<radCalDatAv>False</radCalDatAv>
<camCalInAv>False</camCalInAv>
<filmDistInAv>False</filmDistInAv>
<lensDistInAv>False</lensDistInAv>
</ImgDesc>
</contInfo>
<mdDateSt Sync="TRUE">20220513</mdDateSt>
<mdContact>
<rpIndName>Springs and Environmental Flows Section</rpIndName>
<rpOrgName>Southwest Florida Water Management District</rpOrgName>
<rpCntInfo>
<cntAddress addressType="both">
<delPoint>2379 Broad Street</delPoint>
<city>Brooksville</city>
<adminArea>FL</adminArea>
<postCode>34604</postCode>
<eMailAdd>danielle.rogers@swfwmd.state.fl.us</eMailAdd>
</cntAddress>
<cntPhone>
<voiceNum tddtty="">352-796-7211</voiceNum>
</cntPhone>
<cntOnlineRes>
<linkage>withheld</linkage>
<orFunct>
<OnFunctCd value="002">
</OnFunctCd>
</orFunct>
</cntOnlineRes>
</rpCntInfo>
<displayName>Springs and Environmental Flows Section</displayName>
<role>
<RoleCd value="003">
</RoleCd>
</role>
<displayName>Springs and Environmental Flows Section</displayName>
</mdContact>
<dqInfo>
<dataLineage>
<prcStep>
<stepDesc>Thirteen transects in Nursery Marsh, Nursery Cypress Wetland, and Cypress Wetland Marsh were surveyed by SWFWMD in 2016. Degrove Surveyors, Inc., under contract with Jones Edmunds, re-surveyed the bathymetry along these 13 previously established transects from April 20 through May 1, 2020.
Jones Edmunds used a combination of the LAS files from Block 2 of the 2017 Hillsborough County SWFWMD LiDAR project and the LAS to Multipoint tool within the Esri 3D Analyst toolbox in ArcMap 10.6 to import the Class 2 LiDAR returns into an Esri file geodatabases. This feature class was named MASSPOINTS. Jones Edmunds also imported the waterbody breaklines provided with the 2017 LiDAR into the file geodatabase. These are the same data sources that were used to interpolate the 2017 digital elevation model (DEM) of Hillsborough County. We also imported the 2020 survey points captured by Degrove
Surveyors, Inc into the geodatabase.
Jones Edmunds then generated a TIN-based Terrain feature within the geodatabase using a combination of these 2017 LiDAR MASSPOINTS, the survey points captured by Degrove Surveyors, Inc. along the 13 transects spanning the wetland areas, and the waterbody breaklines. The 2017 LiDAR waterbody breaklines were set as a hard breakline to control the interpolation between the survey points and the LiDAR points. The Terrain was then used to generate a 2.5-foot gridded DEM using the Terrain to Raster with Natural Neighbors interpolation in the ESRI 3D Analysis toolbox in ArcMap 10.6
</stepDesc>
<stepDateTm>2020-08-18T00:00:00</stepDateTm>
<stepProc>
<rpIndName>BJ Bukata</rpIndName>
<rpOrgName>Jones Edmunds and Associates</rpOrgName>
<role>
<RoleCd value="006">
</RoleCd>
</role>
<rpCntInfo>
<cntAddress addressType="both">
<delPoint>730 NE Waldo Road</delPoint>
<city>Gainesville</city>
<adminArea>FL</adminArea>
<postCode>32641</postCode>
<eMailAdd>BBukata@jonesedmunds.com</eMailAdd>
</cntAddress>
<cntPhone>
<voiceNum tddtty="">352-377-5821</voiceNum>
</cntPhone>
</rpCntInfo>
<displayName>BJ Bukata</displayName>
</stepProc>
</prcStep>
</dataLineage>
</dqInfo>
<spdoinfo>
<rastinfo>
<rasttype Sync="TRUE">Pixel</rasttype>
<rowcount Sync="TRUE">1258</rowcount>
<colcount Sync="TRUE">1944</colcount>
<rastxsz Sync="TRUE">2.500000</rastxsz>
<rastysz Sync="TRUE">2.500000</rastysz>
<rastbpp Sync="TRUE">32</rastbpp>
<vrtcount Sync="TRUE">1</vrtcount>
<rastorig Sync="TRUE">Upper Left</rastorig>
<rastcmap Sync="TRUE">FALSE</rastcmap>
<rastcomp Sync="TRUE">LZ77</rastcomp>
<rastband Sync="TRUE">1</rastband>
<rastdtyp Sync="TRUE">pixel codes</rastdtyp>
<rastifor Sync="TRUE">FGDBR</rastifor>
<rastplyr Sync="TRUE">TRUE</rastplyr>
</rastinfo>
</spdoinfo>
<spref>
<horizsys>
<planar>
<planci>
<plance Sync="TRUE">row and column</plance>
<coordrep>
<absres Sync="TRUE">2.500000</absres>
<ordres Sync="TRUE">2.500000</ordres>
</coordrep>
</planci>
</planar>
</horizsys>
</spref>
</metadata>
